BEGIN:VCALENDAR
VERSION:2.0
PRODID:-//Potter Park Zoo - ECPv6.15.20//NONSGML v1.0//EN
CALSCALE:GREGORIAN
METHOD:PUBLISH
X-WR-CALNAME:Potter Park Zoo
X-ORIGINAL-URL:https://potterparkzoo.org
X-WR-CALDESC:Events for Potter Park Zoo
REFRESH-INTERVAL;VALUE=DURATION:PT1H
X-Robots-Tag:noindex
X-PUBLISHED-TTL:PT1H
BEGIN:VTIMEZONE
TZID:UTC
BEGIN:STANDARD
TZOFFSETFROM:+0000
TZOFFSETTO:+0000
TZNAME:UTC
DTSTART:20210101T000000
END:STANDARD
END:VTIMEZONE
BEGIN:VEVENT
DTSTART;TZID=UTC:20220820T130000
DTEND;TZID=UTC:20220820T150000
DTSTAMP:20260423T150205
CREATED:20220815T182933Z
LAST-MODIFIED:20220817T210259Z
UID:16446-1661000400-1661007600@potterparkzoo.org
SUMMARY:Just Chillin' Enrichment Event
DESCRIPTION:What: Just Chillin’ Enrichment Event \nWhen: Saturday\, August 20\, 1 – 3 PM \nWhere: Potter Park Zoo \nPrice: Included with admission \nHow do our zoo animals keep their cool during the heat of summer? Think ice! We’ve made special themed enrichment for the animals\, and we invite you to join us and see what the animals do with them. \nThese events are great for people of all ages to attend. Animals can be most active when interacting with enrichment. Join us for the fun\, no registration required! \nEnrichment Schedule: \n1:00 – Otters \n1:15 – Wolves \n1:30 – Ravens \n1:45 – Tiger \n2:00 – Anteater \n2:15 – Rhinos \n2:30 – Spider Monkeys \n2:45 – Lemurs \n3:00 – Kangaroos
URL:https://potterparkzoo.org/event/just-chillin-enrichment-event/
LOCATION:Potter Park Zoo\, Potter Park Zoo\, Lansing\, MI\, 48912\, United States
END:VEVENT
END:VCALENDAR