BEGIN:VCALENDAR
VERSION:2.0
PRODID:-//Potter Park Zoo - ECPv6.15.20//NONSGML v1.0//EN
CALSCALE:GREGORIAN
METHOD:PUBLISH
X-ORIGINAL-URL:https://potterparkzoo.org
X-WR-CALDESC:Events for Potter Park Zoo
REFRESH-INTERVAL;VALUE=DURATION:PT1H
X-Robots-Tag:noindex
X-PUBLISHED-TTL:PT1H
BEGIN:VTIMEZONE
TZID:UTC
BEGIN:STANDARD
TZOFFSETFROM:+0000
TZOFFSETTO:+0000
TZNAME:UTC
DTSTART:20210101T000000
END:STANDARD
END:VTIMEZONE
BEGIN:VEVENT
DTSTART;TZID=UTC:20220911T170000
DTEND;TZID=UTC:20220911T190000
DTSTAMP:20260424T002348
CREATED:20220817T205403Z
LAST-MODIFIED:20220818T180407Z
UID:16461-1662915600-1662922800@potterparkzoo.org
SUMMARY:Action For Cheetahs Conservation Talk
DESCRIPTION:What: Action for Cheetahs Conservation Talk \nWhen: Sunday\, September 11\, 5 – 7 PM \nWhere: The Safari Room in our Discovery Center \nMary Wykstra is the Executive Director overseeing Action For Cheetahs in Kenya. Learn more about cheetah monitoring\, conflict mitigation\, scat detection dogs and more! \nDonations are always welcome. \nRegister for this free event today! \n 
URL:https://potterparkzoo.org/event/action-for-cheetahs-conservation-talk/
END:VEVENT
END:VCALENDAR