BEGIN:VCALENDAR
VERSION:2.0
PRODID:-//Potter Park Zoo - ECPv6.15.20//NONSGML v1.0//EN
CALSCALE:GREGORIAN
METHOD:PUBLISH
X-WR-CALNAME:Potter Park Zoo
X-ORIGINAL-URL:https://potterparkzoo.org
X-WR-CALDESC:Events for Potter Park Zoo
REFRESH-INTERVAL;VALUE=DURATION:PT1H
X-Robots-Tag:noindex
X-PUBLISHED-TTL:PT1H
BEGIN:VTIMEZONE
TZID:America/Detroit
BEGIN:DAYLIGHT
TZOFFSETFROM:-0500
TZOFFSETTO:-0400
TZNAME:EDT
DTSTART:20220313T070000
END:DAYLIGHT
BEGIN:STANDARD
TZOFFSETFROM:-0400
TZOFFSETTO:-0500
TZNAME:EST
DTSTART:20221106T060000
END:STANDARD
BEGIN:DAYLIGHT
TZOFFSETFROM:-0500
TZOFFSETTO:-0400
TZNAME:EDT
DTSTART:20230312T070000
END:DAYLIGHT
BEGIN:STANDARD
TZOFFSETFROM:-0400
TZOFFSETTO:-0500
TZNAME:EST
DTSTART:20231105T060000
END:STANDARD
BEGIN:DAYLIGHT
TZOFFSETFROM:-0500
TZOFFSETTO:-0400
TZNAME:EDT
DTSTART:20240310T070000
END:DAYLIGHT
BEGIN:STANDARD
TZOFFSETFROM:-0400
TZOFFSETTO:-0500
TZNAME:EST
DTSTART:20241103T060000
END:STANDARD
END:VTIMEZONE
BEGIN:VEVENT
DTSTART;TZID=America/Detroit:20230704T090000
DTEND;TZID=America/Detroit:20230704T170000
DTSTAMP:20260421T062637
CREATED:20221214T171429Z
LAST-MODIFIED:20230525T140041Z
UID:17140-1688461200-1688490000@potterparkzoo.org
SUMMARY:4th of July: Military Members Receive Free Admission!
DESCRIPTION:Happy Independence Day! The zoo will be open from 9 a.m. to 5 p.m. for all to enjoy!\n\n\n \n\n\nThis year we’d like to say thank you by offering free admission to Potter Park Zoo to all United States Military. Standard admission rates for the rest of your party. We can’t wait to see you at the zoo!
URL:https://potterparkzoo.org/event/4th-of-july-military-members-receive-free-admission/
LOCATION:MI
ATTACH;FMTTYPE=image/jpeg:https://potterparkzoo.org/wp-content/uploads/2022/12/62235737_10161935666275023_3643716293896437760_n.jpg
END:VEVENT
BEGIN:VEVENT
DTSTART;TZID=America/Detroit:20230708T090000
DTEND;TZID=America/Detroit:20230708T120000
DTSTAMP:20260421T062637
CREATED:20230503T142237Z
LAST-MODIFIED:20230608T145310Z
UID:18641-1688806800-1688817600@potterparkzoo.org
SUMMARY:Wild About Our Rivers- Potter Park Zoo River Clean-Up
DESCRIPTION:We’re calling all nature enthusiasts\, conservationists\, and animal lovers to join us for an exciting event at Potter Park Zoo. July 8\, 9 a.m. – Noon\, we’ll be hosting a river cleanup along the Lansing River Trail in front of the park. This is your chance to make a difference in your community and help us protect the beautiful wildlife that calls our rivers home. \nWe’re providing supplies\, and we welcome anyone who wants to lend a hand in making our environment cleaner and safer. We know that a single act can make a big difference\, and we’re counting on our dedicated community to help us make this event a success. \nSo\, come and be a part of the solution. Let’s work together to protect our rivers\, the animals that live there\, and the beautiful scenery around us. We can’t wait to see you at the zoo on the morning of July 8 for this exciting and fulfilling river cleanup event! \nSign up here!
URL:https://potterparkzoo.org/event/wild-about-our-rivers-potter-park-zoo-river-clean-up/
LOCATION:MI
CATEGORIES:Conservation
ATTACH;FMTTYPE=image/png:https://potterparkzoo.org/wp-content/uploads/2023/05/River-Clean-Up-Event-Flyer.png
END:VEVENT
BEGIN:VEVENT
DTSTART;TZID=America/Detroit:20230711T090000
DTEND;TZID=America/Detroit:20230712T170000
DTSTAMP:20260421T062637
CREATED:20221214T172909Z
LAST-MODIFIED:20230707T143148Z
UID:17145-1689066000-1689181200@potterparkzoo.org
SUMMARY:Zoo Days 2023
DESCRIPTION:What: Zoo Days \nWhen: July 11 & 12\, 2023\, 9 a.m. – 5 p.m. \nWhere: Potter Park Zoo \n\nGet ready for Zoo Days! Mark your calendars and make sure not to miss out on this fantastic opportunity to visit the zoo for just $2\, plus enjoy free parking! There’s so much fun in store for everyone! \nHere’s a sneak peek of what you can expect during Zoo Days: \n\nTuesday:\n\nPrincesses: 11 a.m. – noon & 1 – 2 p.m.\nSparty: 2:30 – 3:15 p.m.\nBig Lug: 11 a.m. – noon & 1:30 – 2:30 p.m.\nTouch a Truck (Parking Bays): 10 a.m. – 2 p.m.\nBubbles at the Penguins: 10 a.m. – noon & 2 – 4 p.m.\nHula Hooper (Green Space): 10 a.m. – noon & 2:30 – 4:30 p.m.\nHenna (Green Space): 10 a.m. – noon\nFace Painting (Green Space): 10 a.m. – 4 p.m.\n\nWednesday: \n\nPrincesses: 11 a.m. – noon & 1 – 2 p.m.\nBig Lug: 11 a.m. – noon & 1:30 – 2:30 p.m.\nTouch a Truck (Parking Bays): 10 a.m. – 2 p.m.\nBubbles at the Penguins: 10 a.m. – noon & 2 – 4 p.m.\nHula Hooper (Green Space): 10 a.m. – noon & 2:30 – 4:30 p.m.\nHenna (Green Space): 10 a.m. – noon\nFace Painting (Green Space): 10 a.m. – 4 p.m.\n\n\n\nSo\, make sure to clear your schedule and join us for Zoo Days. It’s going to be a blast\, and we can’t wait to see you there!
URL:https://potterparkzoo.org/event/zoo-days-2023/
LOCATION:MI
ATTACH;FMTTYPE=image/png:https://potterparkzoo.org/wp-content/uploads/2022/12/ZooDays2023-Square.png
END:VEVENT
BEGIN:VEVENT
DTSTART;TZID=America/Detroit:20230714T183000
DTEND;TZID=America/Detroit:20230715T093000
DTSTAMP:20260421T062637
CREATED:20221214T170517Z
LAST-MODIFIED:20230623T190710Z
UID:17137-1689359400-1689413400@potterparkzoo.org
SUMMARY:Sundown Safari Camping
DESCRIPTION:What: Sundown Safari Camping \nWhen: Jul. 14\, 6:30 p.m. – Jul. 15\, 9:30 a.m. \nWhere: Potter Park Zoo \nHave you ever wanted to spend the night at the zoo? Now’s your chance! Potter Park Zoo is offering an opportunity for families and small groups to experience the zoo after dark. The cost is $40 per person for non-members and $35 for members. \nCampers will take a guided tour of the zoo\, enjoy s’mores around the campfire\, watch a movie outdoors\, and sleep under the stars! A continental breakfast and zoo admission the next day are included. Participants must provide their own gear (tent\, sleeping bags\, etc)\, and children must be accompanied by an adult.\n\nRegister Here!
URL:https://potterparkzoo.org/event/sundown-safari-camping-10/
LOCATION:MI
ATTACH;FMTTYPE=image/png:https://potterparkzoo.org/wp-content/uploads/2021/07/SunSaf-FB-banner-Date-removed-01.png
END:VEVENT
BEGIN:VEVENT
DTSTART;TZID=America/Detroit:20230716T130000
DTEND;TZID=America/Detroit:20230716T150000
DTSTAMP:20260421T062637
CREATED:20230525T115020Z
LAST-MODIFIED:20230526T134126Z
UID:18764-1689512400-1689519600@potterparkzoo.org
SUMMARY:Just Chillin' with the Animals -  Enrichment Event
DESCRIPTION:How do our Zoo animals keep their cool during the heat of summer? Think ice\, sprinklers\, and picnics. We’ll have special themed enrichments for the animals and we invite you to join us and see what the animals do with them! \nAnimal Enrichment Events are included in the regular admission price when you visit the zoo. These events are great for people of all ages to attend. Animals can be their most active when interacting with enrichment. \nTime: Sunday\, July 16 from 1-3 p.m. \nPrice: Included in regular admission
URL:https://potterparkzoo.org/event/just-chillin-with-the-animals-enrichment-event/
LOCATION:MI
ATTACH;FMTTYPE=image/png:https://potterparkzoo.org/wp-content/uploads/2023/06/Just-Chillin-PPZ.png
END:VEVENT
BEGIN:VEVENT
DTSTART;TZID=America/Detroit:20230720T170000
DTEND;TZID=America/Detroit:20230720T200000
DTSTAMP:20260421T062637
CREATED:20221214T172147Z
LAST-MODIFIED:20230714T181843Z
UID:17142-1689872400-1689883200@potterparkzoo.org
SUMMARY:Zoo Nights #3 (21+)
DESCRIPTION:What: Zoo Nights #3 \nWhen: July 20\, 2023\, 5 p.m. – 8 p.m. \nWhere: Potter Park Zoo \nFor our 21+ guests: \nJoin us for Zoo Nights\, July 20 from 5-8 p.m. at Potter Park Zoo. Indulge in a unique happy hour-style experience where all the food samples are included\, as well as three drink tickets. This 21+ event offers a unique experience with food and drinks from local vendors\, plus the chance to explore the zoo after-hours and play yard games with your friends. Don’t miss your chance to experience the magic of Potter Park Zoo at sunset! \nGet Tickets Here!
URL:https://potterparkzoo.org/event/zoo-nights-3-21/
LOCATION:MI
END:VEVENT
BEGIN:VEVENT
DTSTART;TZID=America/Detroit:20230729T100000
DTEND;TZID=America/Detroit:20230729T160000
DTSTAMP:20260421T062637
CREATED:20230627T171420Z
LAST-MODIFIED:20230714T144336Z
UID:18970-1690624800-1690646400@potterparkzoo.org
SUMMARY:International Tiger Day Celebration
DESCRIPTION:Step into the world of majestic tigers and join us in honoring these magnificent animals during International Tiger Day at Potter Park Zoo. Prepare for an exciting day filled with conservation awareness\, engaging activities\, and a special treat for our very own Amur tiger\, Timmy! \nDate: Saturday\, July 29\, 2023 Time: 10 a.m. – 4 p.m. \nAs part of our International Tiger Day celebration\, we will set up conservation stations throughout the zoo. Immerse yourself in the captivating world of tigers and learn about their importance in the wild. Discover fascinating facts\, engage in interactive activities\, and gain a deeper understanding of the conservation efforts dedicated to protecting these iconic species. \nBest of all\, the International Tiger Day celebration is included with the price of admission\, allowing everyone to participate in this educational and fun-filled event.
URL:https://potterparkzoo.org/event/international-tiger-day-celebration/
LOCATION:MI
ATTACH;FMTTYPE=image/png:https://potterparkzoo.org/wp-content/uploads/2023/06/Tiger-Day-Flyer.png
END:VEVENT
END:VCALENDAR