BEGIN:VCALENDAR
VERSION:2.0
PRODID:-//Potter Park Zoo - ECPv6.15.20//NONSGML v1.0//EN
CALSCALE:GREGORIAN
METHOD:PUBLISH
X-WR-CALNAME:Potter Park Zoo
X-ORIGINAL-URL:https://potterparkzoo.org
X-WR-CALDESC:Events for Potter Park Zoo
REFRESH-INTERVAL;VALUE=DURATION:PT1H
X-Robots-Tag:noindex
X-PUBLISHED-TTL:PT1H
BEGIN:VTIMEZONE
TZID:America/Detroit
BEGIN:DAYLIGHT
TZOFFSETFROM:-0500
TZOFFSETTO:-0400
TZNAME:EDT
DTSTART:20220313T070000
END:DAYLIGHT
BEGIN:STANDARD
TZOFFSETFROM:-0400
TZOFFSETTO:-0500
TZNAME:EST
DTSTART:20221106T060000
END:STANDARD
BEGIN:DAYLIGHT
TZOFFSETFROM:-0500
TZOFFSETTO:-0400
TZNAME:EDT
DTSTART:20230312T070000
END:DAYLIGHT
BEGIN:STANDARD
TZOFFSETFROM:-0400
TZOFFSETTO:-0500
TZNAME:EST
DTSTART:20231105T060000
END:STANDARD
BEGIN:DAYLIGHT
TZOFFSETFROM:-0500
TZOFFSETTO:-0400
TZNAME:EDT
DTSTART:20240310T070000
END:DAYLIGHT
BEGIN:STANDARD
TZOFFSETFROM:-0400
TZOFFSETTO:-0500
TZNAME:EST
DTSTART:20241103T060000
END:STANDARD
END:VTIMEZONE
BEGIN:VEVENT
DTSTART;TZID=America/Detroit:20230603T100000
DTEND;TZID=America/Detroit:20230603T170000
DTSTAMP:20260421T074825
CREATED:20221208T135858Z
LAST-MODIFIED:20230511T163842Z
UID:17092-1685786400-1685811600@potterparkzoo.org
SUMMARY:World Migratory Bird Day 2023
DESCRIPTION:What: World Migratory Bird Day\nWhen: June 3\, 10:00 a.m. – 5:00 p.m.\nWhere: Potter Park Zoo\n\n\nWelcome spring! World Migratory Bird Day celebrates the seasonal migration of millions of birds from their southern wintering grounds back to North America. This year’s theme is water and its significance for migratory birds. \nVisit the zoo this Saturday\, June 3 from 10 a.m. – 5 p.m. to participate in fun\, family-friendly stations set up throughout the zoo and learn the importance of migratory birds (along with some simple practices you can use to help!)
URL:https://potterparkzoo.org/event/world-migratory-bird-day-2023/
LOCATION:MI
ATTACH;FMTTYPE=image/jpeg:https://potterparkzoo.org/wp-content/uploads/2022/12/2023-WMBD-ENG-scaled_0528254500.jpg
END:VEVENT
BEGIN:VEVENT
DTSTART;TZID=America/Detroit:20230615T170000
DTEND;TZID=America/Detroit:20230615T170000
DTSTAMP:20260421T074825
CREATED:20221208T135606Z
LAST-MODIFIED:20230605T170014Z
UID:17091-1686848400-1686848400@potterparkzoo.org
SUMMARY:Zoo Nights #2 (21+)
DESCRIPTION:What: Zoo Nights #2 \nWhen: June 15\, 2023\, 5 p.m. – 8 p.m. \nWhere: Potter Park Zoo \nFor our 21+ guests: \nZoo Nights is a casual\, happy hour-style event that will feature tastes from local restaurants and beverage companies. Take the opportunity to see the zoo after-hours\, visit with the animals\, and enjoy yard games with friends all while savoring tasty treats! \nThis months vendors are: \nBuddy’s Pizza \nTexas Roadhouse \nFounder’s Brewing \nArchival Brewing \nRed Cedar Spirits \nBurgdorf Winery \nGet Tickets Here!
URL:https://potterparkzoo.org/event/zoo-nights-2-21/
LOCATION:MI
END:VEVENT
BEGIN:VEVENT
DTSTART;TZID=America/Detroit:20230618T090000
DTEND;TZID=America/Detroit:20230618T170000
DTSTAMP:20260421T074825
CREATED:20221214T171028Z
LAST-MODIFIED:20221214T171028Z
UID:17139-1687078800-1687107600@potterparkzoo.org
SUMMARY:Fathers Day - All Dads Get Free Admission!
DESCRIPTION:What: Father’s Day \nWhen: June 18\, 2023\, 9 a.m. – 5 p.m. \nWhere: Potter Park Zoo \nCelebrate Father’s Day at the Zoo! All dads will receive FREE admission to Potter Park on June 18! \nWe hope to see you at the zoo!
URL:https://potterparkzoo.org/event/fathers-day-all-dads-get-free-admission-2/
LOCATION:MI
END:VEVENT
BEGIN:VEVENT
DTSTART;TZID=America/Detroit:20230624T183000
DTEND;TZID=America/Detroit:20230625T093000
DTSTAMP:20260421T074825
CREATED:20221214T165906Z
LAST-MODIFIED:20230623T190602Z
UID:17136-1687631400-1687685400@potterparkzoo.org
SUMMARY:Sundown Safari Camping
DESCRIPTION:What: Sundown Safari Camping \nWhen: June 24\, 6:30 p.m. – June 25\, 9:30 a.m. \nWhere: Potter Park Zoo \nHave you ever wanted to spend the night at the zoo? Now’s your chance! Potter Park Zoo is offering an opportunity for families and small groups to experience the zoo after dark. The cost is $40 per person for non-members and $35 for members. \nCampers will take a guided tour of the zoo\, enjoy s’mores around the campfire\, watch a movie outdoors\, and sleep under the stars! A continental breakfast and zoo admission the next day are included. Participants must provide their own gear (tent\, sleeping bags\, etc)\, and children must be accompanied by an adult.\n\nRegister Here! 
URL:https://potterparkzoo.org/event/sundown-safari-camping-9/
LOCATION:MI
ATTACH;FMTTYPE=image/png:https://potterparkzoo.org/wp-content/uploads/2021/07/SunSaf-FB-banner-Date-removed-01.png
END:VEVENT
END:VCALENDAR