BEGIN:VCALENDAR
VERSION:2.0
PRODID:-//Potter Park Zoo - ECPv6.15.20//NONSGML v1.0//EN
CALSCALE:GREGORIAN
METHOD:PUBLISH
X-WR-CALNAME:Potter Park Zoo
X-ORIGINAL-URL:https://potterparkzoo.org
X-WR-CALDESC:Events for Potter Park Zoo
REFRESH-INTERVAL;VALUE=DURATION:PT1H
X-Robots-Tag:noindex
X-PUBLISHED-TTL:PT1H
BEGIN:VTIMEZONE
TZID:America/Detroit
BEGIN:DAYLIGHT
TZOFFSETFROM:-0500
TZOFFSETTO:-0400
TZNAME:EDT
DTSTART:20220313T070000
END:DAYLIGHT
BEGIN:STANDARD
TZOFFSETFROM:-0400
TZOFFSETTO:-0500
TZNAME:EST
DTSTART:20221106T060000
END:STANDARD
BEGIN:DAYLIGHT
TZOFFSETFROM:-0500
TZOFFSETTO:-0400
TZNAME:EDT
DTSTART:20230312T070000
END:DAYLIGHT
BEGIN:STANDARD
TZOFFSETFROM:-0400
TZOFFSETTO:-0500
TZNAME:EST
DTSTART:20231105T060000
END:STANDARD
BEGIN:DAYLIGHT
TZOFFSETFROM:-0500
TZOFFSETTO:-0400
TZNAME:EDT
DTSTART:20240310T070000
END:DAYLIGHT
BEGIN:STANDARD
TZOFFSETFROM:-0400
TZOFFSETTO:-0500
TZNAME:EST
DTSTART:20241103T060000
END:STANDARD
END:VTIMEZONE
BEGIN:VEVENT
DTSTART;TZID=America/Detroit:20230507T140000
DTEND;TZID=America/Detroit:20230507T150000
DTSTAMP:20260421T092535
CREATED:20230419T155034Z
LAST-MODIFIED:20230430T115919Z
UID:18474-1683468000-1683471600@potterparkzoo.org
SUMMARY:Hosting Purple Martins—They Need Us
DESCRIPTION:You can register HERE \nAre you looking for an exciting and educational experience for the whole family? Look no further than Potter Park Zoo’s upcoming presentation and workshop on Purple Martins\, hosted by expert naturalist Penny Briscoe! \nPenny has been advocating for Purple Martins since 2010\, and her backyard colonies have been attracting these friendly and cheerful swallows since 1985. Her recent travels to Amazonia have given her unique insights into their behavior and winter roosting habits. \nDuring her presentation\, Penny will share her vast knowledge of these fascinating birds\, covering their unique nesting requirements and behavior. She’ll also explain why their numbers are declining and how humans can help by providing essential nest cavities. \nJoin us May 7 at 2 p.m. for this event which is included in the price of admission and discover the mesmerizing flying ability of Purple Martins. You’ll be captivated by their aerial acrobatics and delighted by their friendly demeanor toward humans. This is an event not to be missed\, so mark your calendars and come to Potter Park Zoo to experience the wonder of Purple Martins with Penny Briscoe! \n 
URL:https://potterparkzoo.org/event/enjoying-purple-martins-they-need-us/
LOCATION:MI
CATEGORIES:Conservation
ATTACH;FMTTYPE=image/png:https://potterparkzoo.org/wp-content/uploads/2023/04/Hosting-Purple-Martins—They-Need-Us-PPZ-2023-5.png
END:VEVENT
BEGIN:VEVENT
DTSTART;TZID=America/Detroit:20230511T170000
DTEND;TZID=America/Detroit:20230511T200000
DTSTAMP:20260421T092535
CREATED:20221208T135416Z
LAST-MODIFIED:20230510T131448Z
UID:17090-1683824400-1683835200@potterparkzoo.org
SUMMARY:Zoo Nights #1 (21+)
DESCRIPTION:What: Zoo Nights #1 \nWhen: May 11\, 2023\, 5 p.m. – 8 p.m. \nWhere: Potter Park Zoo \nFor our 21+ guests: \nZoo Nights is a casual\, happy hour-style event that will feature tastes from local restaurants and beverage companies. Take the opportunity to see the zoo after-hours\, visit with the animals\, and enjoy yard games with friends all while savoring tasty treats! \nGet Tickets Here! \n*All the food samples are included as well as three drink tickets. Additional drink tickets are available for purchase.
URL:https://potterparkzoo.org/event/zoo-nights-1-21/
LOCATION:MI
ATTACH;FMTTYPE=image/png:https://potterparkzoo.org/wp-content/uploads/2022/12/Zoo-Nights-Square-Social.png
END:VEVENT
BEGIN:VEVENT
DTSTART;TZID=America/Detroit:20230514T090000
DTEND;TZID=America/Detroit:20230514T170000
DTSTAMP:20260421T092535
CREATED:20221208T134231Z
LAST-MODIFIED:20230502T183723Z
UID:17089-1684054800-1684083600@potterparkzoo.org
SUMMARY:Mother’s Day – All Moms Enter Free!
DESCRIPTION:What: Mother’s Day Celebration \nWhen: May 14\, 2023\, 9 a.m. – 5 p.m. \nWhere: Potter Park Zoo \nCelebrate Mother’s Day at the Potter Park Zoo. All moms will receive FREE admission Sunday\, May 14. \nWe can’t wait to see you here at the zoo!
URL:https://potterparkzoo.org/event/mothers-day-all-moms-enter-free-2/
LOCATION:MI
ATTACH;FMTTYPE=image/png:https://potterparkzoo.org/wp-content/uploads/2022/12/Mothers-Day-PPZ-3.png
END:VEVENT
BEGIN:VEVENT
DTSTART;TZID=America/Detroit:20230531T140000
DTEND;TZID=America/Detroit:20230531T150000
DTSTAMP:20260421T092535
CREATED:20230518T162054Z
LAST-MODIFIED:20230518T162054Z
UID:18743-1685541600-1685545200@potterparkzoo.org
SUMMARY:Spotting the Spotted Hyenas: The Mara Hyena Project
DESCRIPTION:Join us at Potter Park Zoo on Wednesday\, May 31\, from 2 – 3 p.m. for an exclusive opportunity to delve into the fascinating world of Spotted Hyenas with The Mara Hyena Project. With over 30 years of field experience\, The Mara Hyena Project is a leading authority in studying these magnificent creatures. \nDiscover the invaluable work carried out by The Mara Hyena Project as they tackle critical issues such as human-wildlife conflict\, habitat management\, and the vital role of the spotted hyena in African ecology. Gain insights into the significance of research in conservation efforts and its positive impact on protecting these remarkable animals. \nDon’t miss this unique chance to engage with renowned experts and deepen your understanding of hyenas and their conservation. This enlightening conservation talk is included with the price of admission\, making it an incredible value for zoo visitors. \nMark your calendar and seize the opportunity to learn from the best. Join us May 31 at Potter Park Zoo\, and be part of the movement to preserve and protect these captivating creatures.
URL:https://potterparkzoo.org/event/spotting-the-spotted-hyenas-the-mara-hyena-project/
LOCATION:MI
ATTACH;FMTTYPE=image/png:https://potterparkzoo.org/wp-content/uploads/2023/05/Hyena-Talk-1.png
END:VEVENT
END:VCALENDAR