BEGIN:VCALENDAR
VERSION:2.0
PRODID:-//Potter Park Zoo - ECPv6.15.20//NONSGML v1.0//EN
CALSCALE:GREGORIAN
METHOD:PUBLISH
X-ORIGINAL-URL:https://potterparkzoo.org
X-WR-CALDESC:Events for Potter Park Zoo
REFRESH-INTERVAL;VALUE=DURATION:PT1H
X-Robots-Tag:noindex
X-PUBLISHED-TTL:PT1H
BEGIN:VTIMEZONE
TZID:America/Detroit
BEGIN:DAYLIGHT
TZOFFSETFROM:-0500
TZOFFSETTO:-0400
TZNAME:EDT
DTSTART:20220313T070000
END:DAYLIGHT
BEGIN:STANDARD
TZOFFSETFROM:-0400
TZOFFSETTO:-0500
TZNAME:EST
DTSTART:20221106T060000
END:STANDARD
BEGIN:DAYLIGHT
TZOFFSETFROM:-0500
TZOFFSETTO:-0400
TZNAME:EDT
DTSTART:20230312T070000
END:DAYLIGHT
BEGIN:STANDARD
TZOFFSETFROM:-0400
TZOFFSETTO:-0500
TZNAME:EST
DTSTART:20231105T060000
END:STANDARD
BEGIN:DAYLIGHT
TZOFFSETFROM:-0500
TZOFFSETTO:-0400
TZNAME:EDT
DTSTART:20240310T070000
END:DAYLIGHT
BEGIN:STANDARD
TZOFFSETFROM:-0400
TZOFFSETTO:-0500
TZNAME:EST
DTSTART:20241103T060000
END:STANDARD
END:VTIMEZONE
BEGIN:VTIMEZONE
TZID:UTC
BEGIN:STANDARD
TZOFFSETFROM:+0000
TZOFFSETTO:+0000
TZNAME:UTC
DTSTART:20220101T000000
END:STANDARD
END:VTIMEZONE
BEGIN:VEVENT
DTSTART;TZID=America/Detroit:20230407T170000
DTEND;TZID=America/Detroit:20230407T200000
DTSTAMP:20260421T112111
CREATED:20230119T153359Z
LAST-MODIFIED:20230228T183442Z
UID:17368-1680886800-1680897600@potterparkzoo.org
SUMMARY:Night at a Living Museum
DESCRIPTION:Unlock a world of wonder and discovery at our Living Museum! Join us on Friday\, April 7th from 5:00  to 8:00 pm for an evening of interactive experiences that will immerse you in the world of conservation and the natural world. \nExperience the zoo like never before\, as you explore select animal exhibits at twilight when the zoo is not normally open to the public. Get up close and personal with our animal care staff and discover the magic of the zoo in a whole new light. \nOur hands-on activities are designed for guests of all ages to learn about the care of animals at the zoo and our conservation efforts both locally and globally. \nThis event is part of the MSU Science Festival Nights at the Museum series\, a multi-day event highlighting science\, technology\, engineering\, arts\, and mathematics (STEAM) through talks\, demonstrations\, tours\, open houses\, and hands-on activities for lifelong learners of all ages. \nAdmission is free and open to all ages\, so bring the whole family and join us for an evening of learning and fun! No registration is needed. Visit www.sciencefestival.msu.edu for more information.
URL:https://potterparkzoo.org/event/night-at-a-living-museum/
LOCATION:MI
END:VEVENT
BEGIN:VEVENT
DTSTART;TZID=America/Detroit:20230408T130000
DTEND;TZID=America/Detroit:20230408T150000
DTSTAMP:20260421T112111
CREATED:20230404T175251Z
LAST-MODIFIED:20230404T175251Z
UID:18270-1680958800-1680966000@potterparkzoo.org
SUMMARY:EGGS-travaganza Enrichment Event
DESCRIPTION:What: EGGS-travaganza Enrichment Event \nWhen: Saturday\, April 8\, 1 – 3 PM \nWhere: Potter Park Zoo \nPrice: Included with admission \nGet ready to experience an egg-citing adventure at Potter Park Zoo’s Spring Enrichment Event! Join us on Saturday\, April 8 from 1 – 3 p.m. for an afternoon of unforgettable entertainment. \n\nImmerse yourself in the wild world of our animals as they embark on scavenger hunts to uncover a variety of treats and eggs. Witness their intelligence and curiosity in action as they hunt\, play\, and engage with their environment.\n\n\n\nThe best part? This incredible event is included with the price of admission. Don’t miss your chance to witness this unique and captivating spectacle that will leave you with memories to last a lifetime!
URL:https://potterparkzoo.org/event/eggs-travaganza-enrichment-event/
LOCATION:MI
END:VEVENT
BEGIN:VEVENT
DTSTART;TZID=UTC:20230422T120000
DTEND;TZID=UTC:20230422T160000
DTSTAMP:20260421T112111
CREATED:20221206T001046Z
LAST-MODIFIED:20230420T131343Z
UID:17009-1682164800-1682179200@potterparkzoo.org
SUMMARY:Party for the Planet 2023
DESCRIPTION:Celebrate Earth Day at the zoo! Party for the Planet is North America’s largest Earth Day celebration\, with more than 120 zoos and aquariums across the country participating. Explore conservation issues with hands-on activities\, information\, and demonstrations around the zoo. What can you do to help the planet? Party for the Planet is included in the regular admission price on Saturday\, April 22\, 2023. Come out and celebrate with us! \nWhat: Party for the Planet \n\nWhen: April 22\, 2023\, 12 – 4 p.m. \nWhere: Potter Park Zoo
URL:https://potterparkzoo.org/event/party-for-the-planet-2023/
LOCATION:MI
ATTACH;FMTTYPE=image/jpeg:https://potterparkzoo.org/wp-content/uploads/2022/12/P4P-PPZ-2023-3-1.jpg
END:VEVENT
BEGIN:VEVENT
DTSTART;TZID=America/Detroit:20230422T170000
DTEND;TZID=America/Detroit:20230422T200000
DTSTAMP:20260421T112111
CREATED:20230119T154917Z
LAST-MODIFIED:20230420T131412Z
UID:17370-1682182800-1682193600@potterparkzoo.org
SUMMARY:Earth Day BioBlitz Exploration
DESCRIPTION:Embark on a thrilling journey of discovery and join our community of citizen scientists for a guided walk along the River Trail. Using smartphones and iNaturalist\, we’ll work together to find and document as many species as possible\, uncovering the hidden gems of our local environment. Not only will you get to enjoy a peaceful stroll through nature\, but you’ll also be making a meaningful contribution to science by recording the diversity of life we find. No prior experience is necessary\, as our experienced guides will be on hand to provide all the training you need. As a token of our appreciation for your participation\, all participants will receive free admission to the zoo and have the opportunity to enjoy the Party for the Planet event at the conclusion of the BioBlitz. Don’t miss this unique opportunity to connect with nature\, learn new skills\, and make a difference. \nRegister for this FREE event here.  \nYou can learn more and download the iNaturalist app here!
URL:https://potterparkzoo.org/event/earth-day-bioblitz-exploration/
LOCATION:MI
CATEGORIES:Conservation
ATTACH;FMTTYPE=image/png:https://potterparkzoo.org/wp-content/uploads/2023/01/PPZ-BioBlitz-8.png
END:VEVENT
BEGIN:VEVENT
DTSTART;TZID=UTC:20230428T093000
DTEND;TZID=UTC:20230428T140000
DTSTAMP:20260421T112111
CREATED:20221206T003255Z
LAST-MODIFIED:20230420T174422Z
UID:17014-1682674200-1682690400@potterparkzoo.org
SUMMARY:Arbor Day Celebration
DESCRIPTION:National Arbor Day is April 28\, marking the 151st anniversary of this tree-tastic holiday! Potter Park Zoo will be celebrating from 9:30 a.m. to 2 p.m. with activity and information tables presented by community partners and our fabulous PPZ volunteers. (activities included with admission). Learn about animals that live in the trees\, how to identify different kinds of trees here in Michigan\, make a pledge to protect trees\, and more! All are welcome and teachers are encouraged to bring their students.
URL:https://potterparkzoo.org/event/arbor-day-celebration-2/
LOCATION:MI
ATTACH;FMTTYPE=image/png:https://potterparkzoo.org/wp-content/uploads/2022/12/Flyer.png
END:VEVENT
END:VCALENDAR