BEGIN:VCALENDAR
VERSION:2.0
PRODID:-//Potter Park Zoo - ECPv6.15.20//NONSGML v1.0//EN
CALSCALE:GREGORIAN
METHOD:PUBLISH
X-WR-CALNAME:Potter Park Zoo
X-ORIGINAL-URL:https://potterparkzoo.org
X-WR-CALDESC:Events for Potter Park Zoo
REFRESH-INTERVAL;VALUE=DURATION:PT1H
X-Robots-Tag:noindex
X-PUBLISHED-TTL:PT1H
BEGIN:VTIMEZONE
TZID:UTC
BEGIN:STANDARD
TZOFFSETFROM:+0000
TZOFFSETTO:+0000
TZNAME:UTC
DTSTART:20210101T000000
END:STANDARD
END:VTIMEZONE
BEGIN:VEVENT
DTSTART;TZID=UTC:20221119T170000
DTEND;TZID=UTC:20221223T200000
DTSTAMP:20260421T181605
CREATED:20220104T044036Z
LAST-MODIFIED:20221221T205418Z
UID:14970-1668877200-1671825600@potterparkzoo.org
SUMMARY:30th Annual Wonderland of Lights- December 22 & 23 Cancelled Due to Winter Storm
DESCRIPTION:What: 30th Annual Wonderland of Lights \nWhen: Thursday through Sunday\, 5:00 pm – 8:00 pm\, November 19 – December 23 (closed on Thanksgiving). \nWhere: Potter Park Zoo \nThousands of lights create an extraordinary holiday display at the 30th annual Wonderland of Lights! Take a stroll around the zoo\, enjoy holiday music\, and marvel at the twinkling light displays during this series of magical Michigan winter evenings. Stop by the Savanna Grill for a bite to eat\, and grab a goodie bag for children as you leave to take home and enjoy. \nAdmission rates charged at the gate are below: \n\n$9 adults\n$5 for kids 3-12\, seniors (60+)\, and military\nFree for kids under 3 years old\n\nThank you to this years Trim-a-Tree supporters! \n\nYMCA of Metropolitan Lansing\nWLNS\nAugenstein & Associates\nThe Barre Code – East Lansing\nPediatric Dentistry of East Lansing\nDyras Dental\nFish Window Cleaning\nHometown Heating and Air Conditioning – St. Johns\nYeo & Yeo\nPrepNet Virtual Academy\nLansing & Windemere Park Charter Academy\nSuzy’s Nature Studies\nTwo Men & a Truck\nREACH Studio Art Center\nLansing Sanitary Supply\, Inc.\nMSU Health Care Osteopathic Manipulative Medicine\nEmergent BioSolutions\nNew Creation Church\nAmanda Weigold & Family\nAllyse & David Anderson & Family\nWinalee & Ron Zeeb\nKaren McGowan\nThe Dorin Family\nRichard & Renate Snider\nIn Memory of Sandra “Perky” Murphy
URL:https://potterparkzoo.org/event/30th-annual-wonderland-of-lights/
END:VEVENT
BEGIN:VEVENT
DTSTART;TZID=UTC:20221203T170000
DTEND;TZID=UTC:20221203T200000
DTSTAMP:20260421T181605
CREATED:20220104T044154Z
LAST-MODIFIED:20221027T185340Z
UID:14972-1670086800-1670097600@potterparkzoo.org
SUMMARY:Toys for Tots at Wonderland of Lights
DESCRIPTION:It’s our annual toy drive! Each person who brings in a new\, unwrapped toy Dec. 3 will be admitted to Wonderland of Lights for FREE. Join your friends at the zoo to make this our most successful Toys for Tots night yet! \n\nThousands of lights create an extraordinary holiday display at the 30th annual Wonderland of Lights! Stroll around the zoo during a magical Michigan winter evening and take in the twinkling light displays across the zoo while holiday music plays. Grab a goodie bag for children to take home and enjoy as you leave the zoo.
URL:https://potterparkzoo.org/event/toys-for-tots-at-wonderland-of-lights-3/
END:VEVENT
BEGIN:VEVENT
DTSTART;TZID=UTC:20221214T170000
DTEND;TZID=UTC:20221214T200000
DTSTAMP:20260421T181605
CREATED:20220104T044420Z
LAST-MODIFIED:20221202T040703Z
UID:14974-1671037200-1671048000@potterparkzoo.org
SUMMARY:Zoo Nights\, with Lights! (21+)
DESCRIPTION:What: Zoo Nights\, with Lights! \nWhen: Dec. 14\, 2022\, 5 p.m. – 8 p.m. \nWhere: Potter Park Zoo \nFor our 21+ guests: \nBundle up and come out to our final Zoo Nights event of the year! This casual\, happy hour-style event will feature holiday music and decór\, and a variety of tastes from local restaurants and beverage companies. Take the opportunity to see the zoo after-hours\, visit with the animals\, and enjoy tasty treats under the glow of our dazzling holiday light display! \nTickets are $15 for zoo member and $20 for non-members. Each guest will receive three drink tickets upon entry\, with additional tickets available for purchase. \n  \nPurchase tickets HERE
URL:https://potterparkzoo.org/event/zoo-nights-with-lights-22/
END:VEVENT
END:VCALENDAR