BEGIN:VCALENDAR
VERSION:2.0
PRODID:-//Potter Park Zoo - ECPv6.15.20//NONSGML v1.0//EN
CALSCALE:GREGORIAN
METHOD:PUBLISH
X-ORIGINAL-URL:https://potterparkzoo.org
X-WR-CALDESC:Events for Potter Park Zoo
REFRESH-INTERVAL;VALUE=DURATION:PT1H
X-Robots-Tag:noindex
X-PUBLISHED-TTL:PT1H
BEGIN:VTIMEZONE
TZID:UTC
BEGIN:STANDARD
TZOFFSETFROM:+0000
TZOFFSETTO:+0000
TZNAME:UTC
DTSTART:20210101T000000
END:STANDARD
END:VTIMEZONE
BEGIN:VEVENT
DTSTART;TZID=UTC:20221111T100000
DTEND;TZID=UTC:20221111T160000
DTSTAMP:20260421T200223
CREATED:20220104T043832Z
LAST-MODIFIED:20220104T043832Z
UID:14968-1668160800-1668182400@potterparkzoo.org
SUMMARY:Veterans Day - Veterans & Family Enter FREE
DESCRIPTION:What: Veterans Day \nWhen: Nov. 11 from 10 a.m. to 4 p.m. \nWhere: Potter Park Zoo \nIn honor of those who serve\, Potter Park Zoo is welcoming all veterans\, military members\, and their families into the zoo free of charge Friday\, Nov. 11. We hope to see you at the zoo!
URL:https://potterparkzoo.org/event/veterans-day-veterans-family-enter-free/
END:VEVENT
BEGIN:VEVENT
DTSTART;TZID=UTC:20221119T170000
DTEND;TZID=UTC:20221223T200000
DTSTAMP:20260421T200223
CREATED:20220104T044036Z
LAST-MODIFIED:20221221T205418Z
UID:14970-1668877200-1671825600@potterparkzoo.org
SUMMARY:30th Annual Wonderland of Lights- December 22 & 23 Cancelled Due to Winter Storm
DESCRIPTION:What: 30th Annual Wonderland of Lights \nWhen: Thursday through Sunday\, 5:00 pm – 8:00 pm\, November 19 – December 23 (closed on Thanksgiving). \nWhere: Potter Park Zoo \nThousands of lights create an extraordinary holiday display at the 30th annual Wonderland of Lights! Take a stroll around the zoo\, enjoy holiday music\, and marvel at the twinkling light displays during this series of magical Michigan winter evenings. Stop by the Savanna Grill for a bite to eat\, and grab a goodie bag for children as you leave to take home and enjoy. \nAdmission rates charged at the gate are below: \n\n$9 adults\n$5 for kids 3-12\, seniors (60+)\, and military\nFree for kids under 3 years old\n\nThank you to this years Trim-a-Tree supporters! \n\nYMCA of Metropolitan Lansing\nWLNS\nAugenstein & Associates\nThe Barre Code – East Lansing\nPediatric Dentistry of East Lansing\nDyras Dental\nFish Window Cleaning\nHometown Heating and Air Conditioning – St. Johns\nYeo & Yeo\nPrepNet Virtual Academy\nLansing & Windemere Park Charter Academy\nSuzy’s Nature Studies\nTwo Men & a Truck\nREACH Studio Art Center\nLansing Sanitary Supply\, Inc.\nMSU Health Care Osteopathic Manipulative Medicine\nEmergent BioSolutions\nNew Creation Church\nAmanda Weigold & Family\nAllyse & David Anderson & Family\nWinalee & Ron Zeeb\nKaren McGowan\nThe Dorin Family\nRichard & Renate Snider\nIn Memory of Sandra “Perky” Murphy
URL:https://potterparkzoo.org/event/30th-annual-wonderland-of-lights/
END:VEVENT
END:VCALENDAR