BEGIN:VCALENDAR
VERSION:2.0
PRODID:-//Potter Park Zoo - ECPv6.15.20//NONSGML v1.0//EN
CALSCALE:GREGORIAN
METHOD:PUBLISH
X-ORIGINAL-URL:https://potterparkzoo.org
X-WR-CALDESC:Events for Potter Park Zoo
REFRESH-INTERVAL;VALUE=DURATION:PT1H
X-Robots-Tag:noindex
X-PUBLISHED-TTL:PT1H
BEGIN:VTIMEZONE
TZID:UTC
BEGIN:STANDARD
TZOFFSETFROM:+0000
TZOFFSETTO:+0000
TZNAME:UTC
DTSTART:20210101T000000
END:STANDARD
END:VTIMEZONE
BEGIN:VEVENT
DTSTART;TZID=UTC:20220911T090000
DTEND;TZID=UTC:20220911T170000
DTSTAMP:20260421T231446
CREATED:20220104T035727Z
LAST-MODIFIED:20220104T035727Z
UID:14945-1662886800-1662915600@potterparkzoo.org
SUMMARY:Grandparent's Day - All Grandparents Enter FREE!
DESCRIPTION:In celebration of grandparents and everything they do\, all grandparents will get into the zoo FREE September 11\, 2022. We can’t wait to see you at the zoo!
URL:https://potterparkzoo.org/event/grandparents-day-all-grandparents-enter-free/
END:VEVENT
BEGIN:VEVENT
DTSTART;TZID=UTC:20220911T170000
DTEND;TZID=UTC:20220911T190000
DTSTAMP:20260421T231446
CREATED:20220817T205403Z
LAST-MODIFIED:20220818T180407Z
UID:16461-1662915600-1662922800@potterparkzoo.org
SUMMARY:Action For Cheetahs Conservation Talk
DESCRIPTION:What: Action for Cheetahs Conservation Talk \nWhen: Sunday\, September 11\, 5 – 7 PM \nWhere: The Safari Room in our Discovery Center \nMary Wykstra is the Executive Director overseeing Action For Cheetahs in Kenya. Learn more about cheetah monitoring\, conflict mitigation\, scat detection dogs and more! \nDonations are always welcome. \nRegister for this free event today! \n 
URL:https://potterparkzoo.org/event/action-for-cheetahs-conservation-talk/
END:VEVENT
BEGIN:VEVENT
DTSTART;TZID=UTC:20220918T110000
DTEND;TZID=UTC:20220918T150000
DTSTAMP:20260421T231446
CREATED:20220104T035909Z
LAST-MODIFIED:20220106T044302Z
UID:14947-1663498800-1663513200@potterparkzoo.org
SUMMARY:International Red Panda Day Celebration
DESCRIPTION:Come celebrate Red Pandas Sunday\, Sept. 18 at Potter Park Zoo! Volunteers will be on hand to answer all of your questions and guests can participate in fun family activities such as children’s crafts and a scavenger hunt. A number of animal enrichments will also occur – come join the fun!
URL:https://potterparkzoo.org/event/international-red-panda-day-celebration/
END:VEVENT
BEGIN:VEVENT
DTSTART;TZID=UTC:20220925T110000
DTEND;TZID=UTC:20220925T150000
DTSTAMP:20260421T231446
CREATED:20220104T040220Z
LAST-MODIFIED:20220915T175309Z
UID:14949-1664103600-1664118000@potterparkzoo.org
SUMMARY:World Rhino Day Celebration
DESCRIPTION:What: World Rhino Day Celebration\nWhen: Sunday\, Sept. 25\, 11 a.m. – 3 p.m.\nWhere: Potter Park Zoo\n\n\nJoin us in celebrating the 13th annual World Rhino Day at Potter Park Zoo! Learn about rhinos at our conservation tables\, play rhino themed games\, and see our resident black rhinos Doppsee and Phineus.\n\n\n\nSchedule of events:\n\nRhino enrichment- 11 am\, 12:30 pm\, and 2pm.\n\nRhino barn tours from 12 – 2 pm.\n\n*Event included with regular admission*
URL:https://potterparkzoo.org/event/world-rhino-day-celebration/
END:VEVENT
END:VCALENDAR