BEGIN:VCALENDAR
VERSION:2.0
PRODID:-//Potter Park Zoo - ECPv6.15.20//NONSGML v1.0//EN
CALSCALE:GREGORIAN
METHOD:PUBLISH
X-WR-CALNAME:Potter Park Zoo
X-ORIGINAL-URL:https://potterparkzoo.org
X-WR-CALDESC:Events for Potter Park Zoo
REFRESH-INTERVAL;VALUE=DURATION:PT1H
X-Robots-Tag:noindex
X-PUBLISHED-TTL:PT1H
BEGIN:VTIMEZONE
TZID:UTC
BEGIN:STANDARD
TZOFFSETFROM:+0000
TZOFFSETTO:+0000
TZNAME:UTC
DTSTART:20210101T000000
END:STANDARD
END:VTIMEZONE
BEGIN:VEVENT
DTSTART;TZID=UTC:20220806T183000
DTEND;TZID=UTC:20220807T093000
DTSTAMP:20260422T005110
CREATED:20220104T033212Z
LAST-MODIFIED:20220618T052924Z
UID:14932-1659810600-1659864600@potterparkzoo.org
SUMMARY:Sundown Safari Camping
DESCRIPTION:What: Sundown Safari Camping \nWhen: Aug. 6\, 6:30 p.m. – Aug.7\, 9:30 a.m. \nWhere: Potter Park Zoo \nHave you ever wanted to spend the night at the zoo? Now’s your chance! Potter Park Zoo is offering an opportunity for families and small groups to come experience the zoo after dark. The cost is $40 per person for non-members and $35 for members. \nCampers will take a guided tour of the zoo\, enjoy s’mores around the campfire\, watch a movie outdoors\, and sleep under the stars! A continental breakfast and zoo admission the next day are included. Participants must provide their own gear (tent\, sleeping bags\, etc)\, and children must be accompanied by an adult.\n\n\nClick HERE to register!
URL:https://potterparkzoo.org/event/sundown-safari-camping-7/
END:VEVENT
BEGIN:VEVENT
DTSTART;TZID=UTC:20220810T170000
DTEND;TZID=UTC:20220810T200000
DTSTAMP:20260422T005110
CREATED:20220104T035346Z
LAST-MODIFIED:20220809T174300Z
UID:14943-1660150800-1660161600@potterparkzoo.org
SUMMARY:Members Night 2022
DESCRIPTION:This one of a kind event for Potter Park Zoo members is filled with animal education stations\, kids activities\, keeper/animal care talks\, and more! A light meal (hotdog\, chips\, drink and a treat) is also included. This annual event celebrates the contribution members make to the future of the zoo.\nJOIN THE FUN! \nMember RSVP is required for this event.  Registration closes Tuesday\, August 9 at 5 p.m.\nBECOME A POTTER PARK ZOO MEMBER NOW – HERE!\n\nOR… if you want to see what this is all about first…\nSPECIAL OPPORTUNITY FOR NON-MEMBERS!\nIf you’ve ever wondered what it’s like to be a Potter Park Zoo member\, now is your chance to find out! Those attendees who purchase a ticket can have the total deducted from a membership purchase made within 2 weeks after the event. Offer is valid through Aug. 24\, 2022.\nNON-MEMBER TICKETS AVAILABLE – HERE!
URL:https://potterparkzoo.org/event/members-night-2022/
END:VEVENT
BEGIN:VEVENT
DTSTART;TZID=UTC:20220818T170000
DTEND;TZID=UTC:20220818T200000
DTSTAMP:20260422T005110
CREATED:20220104T034112Z
LAST-MODIFIED:20220509T220934Z
UID:14939-1660842000-1660852800@potterparkzoo.org
SUMMARY:Zoo Nights #4 (21+)
DESCRIPTION:What: Zoo Nights #4 \nWhen: Aug. 18\, 2022\, 5 p.m. – 8 p.m. \nWhere: Potter Park Zoo \nFor our 21+ guests: \nZoo Nights is a casual\, happy hour style event that will feature tastes from local restaurants and beverage companies. Take the opportunity to see the zoo after-hours\, visit with the animals\, and enjoy yard games with friends all while savoring tasty treats! \nVendors will include: \nMichigan Made Treats\nTexas Roadhouse\nOutback Steakhouse\nSaugatuck Brewing Company\n\nSierra Rose Hard Cider\nArchival Brewings\nRed Cedar Spirits\nDan Henry Distributing \nTickets are $15 for zoo member and $20 for non-members. Each guest will receive three drink tickets upon entry\, with additional tickets available for purchase. \nPurchase tickets HERE
URL:https://potterparkzoo.org/event/zoo-nights-4-2/
END:VEVENT
BEGIN:VEVENT
DTSTART;TZID=UTC:20220819T183000
DTEND;TZID=UTC:20220819T210000
DTSTAMP:20260422T005110
CREATED:20220812T225112Z
LAST-MODIFIED:20220813T171436Z
UID:16409-1660933800-1660942800@potterparkzoo.org
SUMMARY:7th Annual Bowling for Rhinos Fundraiser
DESCRIPTION:What: Bowling for Rhinos Fundraiser\n\nWhen: Friday\, August 19\, 6:30 – 9 PM\n\nWhere: City Limits East\, 2120 East Saginaw Highway\, East Lansing\, MI 48823\n\n\n\n\n\n\n  \nThis is Potter Park Zoo’s AAZK 7th Annual Bowling for Rhinos event\, back after a two-year Covid break. Zookeepers from around the United States and Canada donate their time and skills to run these events allowing every penny raised to help endangered species such as rhinos\, cheetahs\, elephants\, and tigers. The Bowling for Rhinos event is a fun way to help a such a significant cause. \nThis year’s bowling tickets are organized with the goal of keeping participants bowling in their own personal groups. Participants enjoy an individual lane of bowling for up to 6 people for two hours\, a 2 topping Pizza\, pitcher of pop\, t-shirts\, and entertainment in the name of conservation. Come join the fun! \nEvent Sponsor \nVisions of Wildlife \n\n \n  \nT-Shirt Sponsors \nJoey’s Pet Outfitters \n \n  \n  \n  \nPreuss Pets \n \n  \n  \n  \nArt’s Pub
URL:https://potterparkzoo.org/event/bowlingforrhinos/
END:VEVENT
BEGIN:VEVENT
DTSTART;TZID=UTC:20220820T130000
DTEND;TZID=UTC:20220820T150000
DTSTAMP:20260422T005110
CREATED:20220815T182933Z
LAST-MODIFIED:20220817T210259Z
UID:16446-1661000400-1661007600@potterparkzoo.org
SUMMARY:Just Chillin' Enrichment Event
DESCRIPTION:What: Just Chillin’ Enrichment Event \nWhen: Saturday\, August 20\, 1 – 3 PM \nWhere: Potter Park Zoo \nPrice: Included with admission \nHow do our zoo animals keep their cool during the heat of summer? Think ice! We’ve made special themed enrichment for the animals\, and we invite you to join us and see what the animals do with them. \nThese events are great for people of all ages to attend. Animals can be most active when interacting with enrichment. Join us for the fun\, no registration required! \nEnrichment Schedule: \n1:00 – Otters \n1:15 – Wolves \n1:30 – Ravens \n1:45 – Tiger \n2:00 – Anteater \n2:15 – Rhinos \n2:30 – Spider Monkeys \n2:45 – Lemurs \n3:00 – Kangaroos
URL:https://potterparkzoo.org/event/just-chillin-enrichment-event/
LOCATION:Potter Park Zoo\, Potter Park Zoo\, Lansing\, MI\, 48912\, United States
END:VEVENT
END:VCALENDAR