BEGIN:VCALENDAR
VERSION:2.0
PRODID:-//Potter Park Zoo - ECPv6.15.20//NONSGML v1.0//EN
CALSCALE:GREGORIAN
METHOD:PUBLISH
X-ORIGINAL-URL:https://potterparkzoo.org
X-WR-CALDESC:Events for Potter Park Zoo
REFRESH-INTERVAL;VALUE=DURATION:PT1H
X-Robots-Tag:noindex
X-PUBLISHED-TTL:PT1H
BEGIN:VTIMEZONE
TZID:UTC
BEGIN:STANDARD
TZOFFSETFROM:+0000
TZOFFSETTO:+0000
TZNAME:UTC
DTSTART:20210101T000000
END:STANDARD
END:VTIMEZONE
BEGIN:VEVENT
DTSTART;TZID=UTC:20220604T100000
DTEND;TZID=UTC:20220604T170000
DTSTAMP:20260422T041647
CREATED:20220104T015312Z
LAST-MODIFIED:20220601T205155Z
UID:14916-1654336800-1654362000@potterparkzoo.org
SUMMARY:World Migratory Bird Day 2022
DESCRIPTION:What: World Migratory Bird Day\nWhen: June 4\, 10:00 a.m. – 5:00 p.m.\nWhere: Potter Park Zoo\n\n\nWelcome spring! World Migratory Bird Day celebrates the seasonal migration of millions of birds from their southern wintering grounds back to North America. This year’s theme is “Dim the Lights for Birds at Night”\, and focuses on the ways light pollution affects migrating birds. \nVisit the zoo this Saturday\, June 4 from 10 a.m. – 5 p.m. to participate in fun\, family-friendly stations set up throughout the zoo and learn the importance of migratory birds (along with some simple practices you can use to help!) \nLearn more: https://potterparkzoo.org/world-migratory-bird-day-2022/ \n\nCommunity partners this year include:\nU.S. Fish and Wildlife Service\n\nMichigan DNR- Wildlife Division\nMichigan State Bird Observatory\nCapital Area Audubon\nCapital Area Astronomy Club and Fox Park Public Observatory\n\n\nRead more: potterparkzoo.org/potter-park-zoo-celebrates-world-migratory-bird-day-2022/
URL:https://potterparkzoo.org/event/world-migratory-bird-day-2022/
ATTACH;FMTTYPE=image/jpeg:https://potterparkzoo.org/wp-content/uploads/2022/01/World-Migratory-Bird-Day-Advertisement-Final-Draft.jpg
END:VEVENT
BEGIN:VEVENT
DTSTART;TZID=UTC:20220614T183000
DTEND;TZID=UTC:20220614T203000
DTSTAMP:20260422T041647
CREATED:20220530T203528Z
LAST-MODIFIED:20220531T231541Z
UID:16030-1655231400-1655238600@potterparkzoo.org
SUMMARY:Volunteer Recruitment Event
DESCRIPTION:We’re looking for volunteer to help us create unforgettable experiences at the zoo! \nJoin us for a special Zoo Volunteering Info Night – Tuesday\, June 14\, 6:30 – 8:30 p.m. at Potter Park Zoo! Learn about the different opportunities available and get all your questions answered.Find out more on our website  → https://potterparkzoo.org/be-a-volunteer/ \nCan’t attend but still interested? Contact Kelly Gibson at ppzvolunteer@ingham.org.
URL:https://potterparkzoo.org/event/volunteer-recruitment-event/
ATTACH;FMTTYPE=image/png:https://potterparkzoo.org/wp-content/uploads/2022/05/Screen-Shot-2022-05-31-at-1.36.24-PM.png
END:VEVENT
BEGIN:VEVENT
DTSTART;TZID=UTC:20220616T170000
DTEND;TZID=UTC:20220616T200000
DTSTAMP:20260422T041647
CREATED:20220104T021629Z
LAST-MODIFIED:20220613T172944Z
UID:14922-1655398800-1655409600@potterparkzoo.org
SUMMARY:Zoo Nights #2 (21+)
DESCRIPTION:What: Zoo Nights #2 \nWhen: June 16\, 2022\, 5 p.m. – 8 p.m. \nWhere: Potter Park Zoo \nFor our 21+ guests: \nZoo Nights is a casual\, happy hour style event that will feature tastes from local restaurants and beverage companies. Take the opportunity to see the zoo after-hours\, visit with the animals\, and enjoy yard games with friends all while savoring tasty treats! \nVendors for this event will include: \nTexas Roadhouse\nMcAlister’s Deli\nPizza House\nBurgdorf Winery\nSierra Rose Hard Cider\nArchival Brewing\nRed Cedar Spirits\nDan Henry Distributing\nZoo Nights will occur July 21\, and Aug 18. Tickets are $15 for zoo member and $20 for non-members. Each guest will receive three drink tickets upon entry\, with additional tickets available for purchase. \nPurchase tickets HERE
URL:https://potterparkzoo.org/event/zoo-nights-2-2/
ATTACH;FMTTYPE=image/jpeg:https://potterparkzoo.org/wp-content/uploads/2022/05/Square1-zoo-nights-2-01.jpg
END:VEVENT
BEGIN:VEVENT
DTSTART;TZID=UTC:20220619T090000
DTEND;TZID=UTC:20220619T170000
DTSTAMP:20260422T041647
CREATED:20220104T023942Z
LAST-MODIFIED:20220106T020620Z
UID:14924-1655629200-1655658000@potterparkzoo.org
SUMMARY:Father's Day - All Dads Get Free Admission!
DESCRIPTION:What: Father’s Day \nWhen: June 19\, 2022\, 9 a.m. – 5 p.m. \nWhere: Potter Park Zoo \nCelebrate Father’s Day at the Zoo! All dads will receive FREE admission to Potter Park on June 19! \nWe hope to see you at the zoo!
URL:https://potterparkzoo.org/event/fathers-day-all-dads-get-free-admission/
END:VEVENT
BEGIN:VEVENT
DTSTART;TZID=UTC:20220625T183000
DTEND;TZID=UTC:20220626T093000
DTSTAMP:20260422T041647
CREATED:20220104T025933Z
LAST-MODIFIED:20220618T053054Z
UID:14926-1656181800-1656235800@potterparkzoo.org
SUMMARY:Sundown Safari Camping
DESCRIPTION:What: Sundown Safari Camping \nWhen: June 25\, 6:30 p.m. – June 26\, 9:30 a.m. \nWhere: Potter Park Zoo \nHave you ever wanted to spend the night at the zoo? Now’s your chance! Potter Park Zoo is offering an opportunity for families and small groups to come experience the zoo after dark. The cost is $40 per person for non-members and $35 for members. \nCampers will take a guided tour of the zoo\, enjoy s’mores around the campfire\, watch a movie outdoors\, and sleep under the stars! A continental breakfast and zoo admission the next day are included. Participants must provide their own gear (tent\, sleeping bags\, etc)\, and children must be accompanied by an adult.\n\n\nClick HERE to register!
URL:https://potterparkzoo.org/event/sundown-safari-camping-5/
END:VEVENT
END:VCALENDAR