BEGIN:VCALENDAR
VERSION:2.0
PRODID:-//Potter Park Zoo - ECPv6.15.20//NONSGML v1.0//EN
CALSCALE:GREGORIAN
METHOD:PUBLISH
X-ORIGINAL-URL:https://potterparkzoo.org
X-WR-CALDESC:Events for Potter Park Zoo
REFRESH-INTERVAL;VALUE=DURATION:PT1H
X-Robots-Tag:noindex
X-PUBLISHED-TTL:PT1H
BEGIN:VTIMEZONE
TZID:UTC
BEGIN:STANDARD
TZOFFSETFROM:+0000
TZOFFSETTO:+0000
TZNAME:UTC
DTSTART:20210101T000000
END:STANDARD
END:VTIMEZONE
BEGIN:VEVENT
DTSTART;TZID=UTC:20220415T170000
DTEND;TZID=UTC:20220415T200000
DTSTAMP:20260422T072731
CREATED:20220405T180754Z
LAST-MODIFIED:20220405T223704Z
UID:15550-1650042000-1650052800@potterparkzoo.org
SUMMARY:Saving Species with Potter Park Zoo
DESCRIPTION:What: Saving Species with Potter Park Zoo – An MSU Science Festival featured event \nWhen: Friday\, April 15\, 5:00 – 8:00 PM \nWhere: Potter Park Zoo 1301 S. Pennsylvania Avenue Lansing\, MI 48912 \nCome out to the zoo Friday\, April 15 from 5 – 8 p.m. and\nparticipate in our event\, “Saving Species” as part of the annual MSU Science Festival! Visit your favorite animals and learn about the important work zoos do to save endangered species around the world\, along with some simple things you can do every day to help. \nThis event is suitable for all ages\, and admission is free! Learn more about the MSU Science Festival and all of its offering here: https://sciencefestival.msu.edu/ \nWe hope to see you there!
URL:https://potterparkzoo.org/event/saving-species-with-potter-park-zoo/
ATTACH;FMTTYPE=image/png:https://potterparkzoo.org/wp-content/uploads/2022/04/Screen-Shot-2022-04-05-at-10.07.34-AM.png
END:VEVENT
BEGIN:VEVENT
DTSTART;TZID=UTC:20220423T120000
DTEND;TZID=UTC:20220423T160000
DTSTAMP:20260422T072731
CREATED:20220104T014250Z
LAST-MODIFIED:20220419T174718Z
UID:14910-1650715200-1650729600@potterparkzoo.org
SUMMARY:Party for the Planet 2022
DESCRIPTION:What: Party for the Planet \nWhen: April 23\, 2022\, 12 – 4 p.m. \nWhere: Potter Park Zoo \nCelebrate Earth Day at the zoo! Party for the Planet is North America’s largest Earth Day celebration\, with more than 120 zoos and aquariums across the country participating. Explore conservation issues with hands-on activities\, information and demonstrations around the zoo. What can you do to help the planet? \n\nParty for the Planet is included in regular admission price on Saturday\, April 23\, 2022. Come out and celebrate with us!
URL:https://potterparkzoo.org/event/party-for-the-planet-2022/
ATTACH;FMTTYPE=image/png:https://potterparkzoo.org/wp-content/uploads/2022/01/Screen-Shot-2022-04-18-at-3.35.40-PM.png
END:VEVENT
BEGIN:VEVENT
DTSTART;TZID=UTC:20220424T110000
DTEND;TZID=UTC:20220424T160000
DTSTAMP:20260422T072731
CREATED:20220418T234550Z
LAST-MODIFIED:20220421T215050Z
UID:15656-1650798000-1650816000@potterparkzoo.org
SUMMARY:Potter Park Zoo Job Fair - 4/24
DESCRIPTION:Are you looking for your first job\, a post-retirement pastime\, or just want a fun place to work? We want you on the Potter Park Zoo team! \nJoin us Sunday\, April 24 from 11 a.m. – 4 p.m. at Potter Park Zoo for an onsite interview with hiring managers for a variety of seasonal positions in customer service\, zoo maintenance\, and more. No application is required to attend!  If you are unable to attend in person please email zoocontact@ingham.org to request an online interview.  Visit www.potterparkzoo.org/job-openings for more detailed position information including wages and age requirements.
URL:https://potterparkzoo.org/event/potter-park-zoo-job-fair-4-24/
ATTACH;FMTTYPE=image/png:https://potterparkzoo.org/wp-content/uploads/2022/01/Screen-Shot-2022-04-18-at-3.34.59-PM.png
END:VEVENT
BEGIN:VEVENT
DTSTART;TZID=UTC:20220429T093000
DTEND;TZID=UTC:20220429T140000
DTSTAMP:20260422T072731
CREATED:20220330T225836Z
LAST-MODIFIED:20220330T230023Z
UID:15516-1651224600-1651240800@potterparkzoo.org
SUMMARY:Arbor Day Celebration
DESCRIPTION:National Arbor Day is April 29\, marking the 150th anniversary of this tree-tastic holiday! Potter Park Zoo will be celebrating from 9:30 a.m to 2 p.m. with activity and information tables presented by community partners and our fabulous PPZ volunteers. (activities included with admission). Learn about animals that live in the trees\, how to identify different kinds of trees here in Michigan\, make a pledge to protect trees\, and more! All are welcome and teachers are encouraged to bring their students.
URL:https://potterparkzoo.org/event/arbor-day-celebration/
ATTACH;FMTTYPE=image/png:https://potterparkzoo.org/wp-content/uploads/2022/03/Screen-Shot-2022-03-30-at-2.56.49-PM.png
END:VEVENT
BEGIN:VEVENT
DTSTART;TZID=UTC:20220430T130000
DTEND;TZID=UTC:20220430T160000
DTSTAMP:20260422T072731
CREATED:20220421T220500Z
LAST-MODIFIED:20220426T235318Z
UID:15680-1651323600-1651334400@potterparkzoo.org
SUMMARY:FrogWatch – 4/30
DESCRIPTION:Potter Park Zoo is inviting Michigan residents to join FrogWatch and become volunteer citizen scientists! \nAmphibians are some of the most threatened animals on the planet and the anurans (frogs and toads) represent roughly 90 percent of all amphibian species. Their sensitivity to environmental change also makes them important indicators of environmental health\, sparking numerous efforts to understand the causes and geographic distribution of their decline. \nDuring our two sessions\, volunteers will learn about basic amphibian biology\, wetland habitats\, and how to identify local frog and toads by their behavior and mating calls. As a citizen scientist\, their observations will be uploaded to a national database. This is a great opportunity for adults and families alike to get outdoors and experience our native wildlife. \nClick to Sign up for Session 1!\nClick to Sign up for Session 2!\nYou do not have to be a frog or toad expert to be a FrogWatch volunteer! All you need is: \n\nAn interest in frogs and toads and a willingness to learn their calls\nAbility to attend one of our two training sessions\nA commitment to follow the standardized protocol to monitor a wetland site over multiple evenings throughout the breeding season (February – August)\n\nFrogWatch training classes for 2022 will be offered at Potter Park Zoo April 30 at 1 p.m. and May 7 at 3 p.m. Children are welcome\, but must be accompanied by an adult.
URL:https://potterparkzoo.org/event/frogwatch-4-30-1-p-m/
ATTACH;FMTTYPE=image/png:https://potterparkzoo.org/wp-content/uploads/2022/04/Screen-Shot-2022-04-21-at-2.01.08-PM.png
END:VEVENT
END:VCALENDAR