BEGIN:VCALENDAR
VERSION:2.0
PRODID:-//Potter Park Zoo - ECPv6.15.20//NONSGML v1.0//EN
CALSCALE:GREGORIAN
METHOD:PUBLISH
X-WR-CALNAME:Potter Park Zoo
X-ORIGINAL-URL:https://potterparkzoo.org
X-WR-CALDESC:Events for Potter Park Zoo
REFRESH-INTERVAL;VALUE=DURATION:PT1H
X-Robots-Tag:noindex
X-PUBLISHED-TTL:PT1H
BEGIN:VTIMEZONE
TZID:UTC
BEGIN:STANDARD
TZOFFSETFROM:+0000
TZOFFSETTO:+0000
TZNAME:UTC
DTSTART:20210101T000000
END:STANDARD
END:VTIMEZONE
BEGIN:VEVENT
DTSTART;TZID=UTC:20220324T120000
DTEND;TZID=UTC:20220324T180000
DTSTAMP:20260422T085723
CREATED:20220316T233407Z
LAST-MODIFIED:20220317T000902Z
UID:15418-1648123200-1648144800@potterparkzoo.org
SUMMARY:Potter Park Zoo Job Fair - 3/24
DESCRIPTION:Are you looking for your first job\, a post-retirement pastime\, or just want a fun place to work? We want you on the Potter Park Zoo team! \nJoin us Thursday\, March 24 and Sunday\, March 27 at Potter Park Zoo for an onsite interview with hiring managers for a variety of seasonal positions in customer service\, zoo maintenance\, and more. No application is required to attend!  If you are unable to attend in person please email zoocontact@ingham.org to request an online interview.  Visit www.potterparkzoo.org for more detailed position information including wages and age requirements.
URL:https://potterparkzoo.org/event/potter-park-zoo-job-fair-3-24/
END:VEVENT
BEGIN:VEVENT
DTSTART;TZID=UTC:20220327T110000
DTEND;TZID=UTC:20220327T160000
DTSTAMP:20260422T085724
CREATED:20220316T233453Z
LAST-MODIFIED:20220316T233517Z
UID:15421-1648378800-1648396800@potterparkzoo.org
SUMMARY:Potter Park Zoo Job Fair - 3/27
DESCRIPTION:Are you looking for your first job\, a post-retirement pastime\, or just want a fun place to work? We want you on the Potter Park Zoo team! \nJoin us Thursday\, March 24 and Sunday\, March 27 at Potter Park Zoo for an onsite interview with hiring managers for a variety of seasonal positions in customer service\, zoo maintenance\, and more. No application is required to attend!  If you are unable to attend in person please email zoocontact@ingham.org to request an online interview.  Visit www.potterparkzoo.org for more detailed position information including wages and age requirements.
URL:https://potterparkzoo.org/event/potter-park-zoo-job-fair-3-27/
END:VEVENT
END:VCALENDAR