BEGIN:VCALENDAR
VERSION:2.0
PRODID:-//Potter Park Zoo - ECPv6.15.20//NONSGML v1.0//EN
CALSCALE:GREGORIAN
METHOD:PUBLISH
X-WR-CALNAME:Potter Park Zoo
X-ORIGINAL-URL:https://potterparkzoo.org
X-WR-CALDESC:Events for Potter Park Zoo
REFRESH-INTERVAL;VALUE=DURATION:PT1H
X-Robots-Tag:noindex
X-PUBLISHED-TTL:PT1H
BEGIN:VTIMEZONE
TZID:UTC
BEGIN:STANDARD
TZOFFSETFROM:+0000
TZOFFSETTO:+0000
TZNAME:UTC
DTSTART:20210101T000000
END:STANDARD
END:VTIMEZONE
BEGIN:VEVENT
DTSTART;TZID=UTC:20220212T100000
DTEND;TZID=UTC:20220213T160000
DTSTAMP:20260422T102522
CREATED:20220103T132757Z
LAST-MODIFIED:20220209T194357Z
UID:14904-1644660000-1644768000@potterparkzoo.org
SUMMARY:Ice Safari\, Feb. 12-13
DESCRIPTION:What: Ice Safari \nWhen: Feb. 12\, 13\, 19 & 20\, 2022 – 10 a.m. to 4 p.m. \nWhere: Potter Park Zoo \nVisit the zoo and experience our Ice Safari! For four days only\, a variety of animal ice carvings will be on display throughout the zoo. Conservation messaging attached to each sculpture will provide a fun and educational tour for all guests to enjoy. The installations will be supplied by Miller Ice Sculptures of Lansing. Live carvings will also be featured in the Green Space each day. \nNever visited the zoo in the winter? Many of our animals thrive in the cold\, and will be out and about for you to observe – bald eagles\, wolves\, otters\, Arctic foxes\, and the snow leopard to name a few. \nThank you to Liberty Tax of Lansing\, Zepolla Innovations\, Windemere Park Charter Academy and Lansing Charter Academy\, and Outback Steakhouse for generously sponsoring our sculptures. \nReservations\nTo find tickets\, manually adjust the dates in the search window. Walk-ups are also welcome! Note – Because Ice Safari is a special event\, reciprocal member discounts will not apply during these weekends. \nCLICK HERE TO PURCHASE TICKETS\n*Because tickets can only be ordered two weeks in advance\, reservations for Feb. 19 & 20 will not be available until Saturday\, Feb. 5. \nProceeds from this event will support Potter Park Zoo and its mission of inspiring the conservation of animals and the natural world.
URL:https://potterparkzoo.org/event/ice-safari/
ATTACH;FMTTYPE=image/jpeg:https://potterparkzoo.org/wp-content/uploads/2022/01/Ice-Safari-22-social-square1.jpg
END:VEVENT
BEGIN:VEVENT
DTSTART;TZID=UTC:20220219T100000
DTEND;TZID=UTC:20220220T160000
DTSTAMP:20260422T102522
CREATED:20220202T031806Z
LAST-MODIFIED:20220209T194428Z
UID:15147-1645264800-1645372800@potterparkzoo.org
SUMMARY:Ice Safari\, Feb. 19-20
DESCRIPTION:What: Ice Safari \nWhen: Feb. 12\, 13\, 19 & 20\, 2022 – 10 a.m. to 4 p.m. \nWhere: Potter Park Zoo \nVisit the zoo and experience our Ice Safari! For four days only\, a variety of animal ice carvings will be on display throughout the zoo. Conservation messaging attached to each sculpture will provide a fun and educational tour for all guests to enjoy. The installations will be supplied by Miller Ice Sculptures of Lansing. Live carvings will also be featured in the Green Space each day. \nNever visited the zoo in the winter? Many of our animals thrive in the cold\, and will be out and about for you to observe – bald eagles\, wolves\, otters\, Arctic foxes\, and the snow leopard to name a few. \nThank you to Liberty Tax of Lansing\, Zepolla Innovations\, Windemere Park Charter Academy and Lansing Charter Academy\, and Outback Steakhouse for generously sponsoring our sculptures. \nReservations\nTo find tickets\, manually adjust the dates in the search window. Walk-ups are also welcome! Note – Because Ice Safari is a special event\, reciprocal member discounts will not apply during these weekends. \nCLICK HERE TO PURCHASE TICKETS\n*Because tickets can only be ordered two weeks in advance\, reservations for Feb. 19 & 20 will not be available until Saturday\, Feb. 5. \nProceeds from this event will support Potter Park Zoo and its mission of inspiring the conservation of animals and the natural world.
URL:https://potterparkzoo.org/event/ice-safari-2/
ATTACH;FMTTYPE=image/jpeg:https://potterparkzoo.org/wp-content/uploads/2022/01/Ice-Safari-22-social-square1.jpg
END:VEVENT
END:VCALENDAR