BEGIN:VCALENDAR
VERSION:2.0
PRODID:-//Potter Park Zoo - ECPv6.15.20//NONSGML v1.0//EN
CALSCALE:GREGORIAN
METHOD:PUBLISH
X-ORIGINAL-URL:https://potterparkzoo.org
X-WR-CALDESC:Events for Potter Park Zoo
REFRESH-INTERVAL;VALUE=DURATION:PT1H
X-Robots-Tag:noindex
X-PUBLISHED-TTL:PT1H
BEGIN:VTIMEZONE
TZID:UTC
BEGIN:STANDARD
TZOFFSETFROM:+0000
TZOFFSETTO:+0000
TZNAME:UTC
DTSTART:20200101T000000
END:STANDARD
END:VTIMEZONE
BEGIN:VEVENT
DTSTART;TZID=UTC:20211111T100000
DTEND;TZID=UTC:20211111T160000
DTSTAMP:20260422T153503
CREATED:20211108T233548Z
LAST-MODIFIED:20211109T022330Z
UID:14616-1636624800-1636646400@potterparkzoo.org
SUMMARY:Veterans Day – All Military and Their Families Get FREE Admission at the Gate
DESCRIPTION:What: Veterans Day \nWhen: Nov. 11 from 10 a.m. to 4 p.m. \nWhere: Potter Park Zoo \nIn honor of those who serve\, Potter Park Zoo is welcoming all veterans\, military members\, and their families into the zoo free of charge Thursday\, Nov. 11. We hope to see you at the zoo!
URL:https://potterparkzoo.org/event/veterans-day-all-military-and-their-families-get-free-admission-at-the-gate/
ATTACH;FMTTYPE=image/jpeg:https://potterparkzoo.org/wp-content/uploads/2021/11/Veterans-day-1-scaled.jpg
END:VEVENT
BEGIN:VEVENT
DTSTART;TZID=UTC:20211120T170000
DTEND;TZID=UTC:20211226T200000
DTSTAMP:20260422T153503
CREATED:20210130T004527Z
LAST-MODIFIED:20211207T212428Z
UID:12396-1637427600-1640548800@potterparkzoo.org
SUMMARY:27th Annual Wonderland of Lights
DESCRIPTION:What: 27th Annual Wonderland of Lights \nWhen: Thursday through Sunday\, 5:00 pm – 8:00 pm\, November 20 – December 26 (closed on Thanksgiving\, Christmas Eve\, and Christmas Day) \nWhere: Potter Park Zoo \nThousands of lights create an extraordinary holiday display at the 27th annual Wonderland of Lights! Take a stroll around the zoo\, enjoy holiday music\, and marvel at the twinkling light displays during this series of magical Michigan winter evenings. Stop by the Savanna Grill for a bite to eat\, and grab a goodie bag for children as you leave to take home and enjoy. \nAdmission rates charged at the gate are below: \n\n$9 adults\n$5 for kids 3-12\, seniors (60+)\, and military\nFree for kids under 3 years old\n\nRESERVE TICKETS
URL:https://potterparkzoo.org/event/27th-annual-wonderland-of-lights/
ATTACH;FMTTYPE=image/jpeg:https://potterparkzoo.org/wp-content/uploads/2021/01/FB-banner-.jpg
END:VEVENT
END:VCALENDAR