BEGIN:VCALENDAR
VERSION:2.0
PRODID:-//Potter Park Zoo - ECPv6.15.20//NONSGML v1.0//EN
CALSCALE:GREGORIAN
METHOD:PUBLISH
X-WR-CALNAME:Potter Park Zoo
X-ORIGINAL-URL:https://potterparkzoo.org
X-WR-CALDESC:Events for Potter Park Zoo
REFRESH-INTERVAL;VALUE=DURATION:PT1H
X-Robots-Tag:noindex
X-PUBLISHED-TTL:PT1H
BEGIN:VTIMEZONE
TZID:UTC
BEGIN:STANDARD
TZOFFSETFROM:+0000
TZOFFSETTO:+0000
TZNAME:UTC
DTSTART:20200101T000000
END:STANDARD
END:VTIMEZONE
BEGIN:VEVENT
DTSTART;TZID=UTC:20211003T090000
DTEND;TZID=UTC:20211003T170000
DTSTAMP:20260422T171356
CREATED:20210907T181038Z
LAST-MODIFIED:20210928T200940Z
UID:14254-1633251600-1633280400@potterparkzoo.org
SUMMARY:College Day – FREE Admission for College Students at the Gate
DESCRIPTION:College Day! (Free Admission ticket at the gate for College Students with valid college ID)  \nOctober 3\, 2021: 9 – 5  p.m. \nDon’t miss free admission to Potter Park Zoo for students with current college ID! \nPlease Note: Free admission for college students is not available to be reserved online and can be obtained only at the admissions gate.
URL:https://potterparkzoo.org/event/14254/
ATTACH;FMTTYPE=image/png:https://potterparkzoo.org/wp-content/uploads/2021/09/College-Day-21-1.png
END:VEVENT
BEGIN:VEVENT
DTSTART;TZID=UTC:20211009T090000
DTEND;TZID=UTC:20211024T170000
DTSTAMP:20260422T171356
CREATED:20210130T004130Z
LAST-MODIFIED:20210929T185807Z
UID:12390-1633770000-1635094800@potterparkzoo.org
SUMMARY:Fall Zoo-tacular
DESCRIPTION:What: Fall Zoo-tacular \nWhen: October 9-10\, 16-17\, 23-24 from 9:00 a.m. – 5:00 p.m. \nWhere: Potter Park Zoo \n\nGet ready for an event full of colors\, costumes\, candy\, and more! Gather the family\, put on your best Halloween getup\, and join us for this seasonal stroll through Potter Park. Beautiful autumn colors and decor will accompany you as you visit all of your favorite animals. \nFall Zoo-tacular will also include:\n\n\n\n– Activities provided by community partners\n\n\n– Candy stations\n\n– A straw maze\n\n\nAdditional activities may be available for purchase based on weather and staffing. \n\nRESERVE YOUR FALL ZOO-TACULAR SPOT HERE
URL:https://potterparkzoo.org/event/fall-zoo-tacular/
ATTACH;FMTTYPE=image/png:https://potterparkzoo.org/wp-content/uploads/2021/01/Zootacular-21-FB-Banner-01.png
END:VEVENT
BEGIN:VEVENT
DTSTART;TZID=UTC:20211021T170000
DTEND;TZID=UTC:20211021T200000
DTSTAMP:20260422T171356
CREATED:20211012T020118Z
LAST-MODIFIED:20211021T165034Z
UID:14478-1634835600-1634846400@potterparkzoo.org
SUMMARY:ZooOOoo Nights
DESCRIPTION:ZooOOoo Nights is a casual\, happy hour style event with a Halloween twist that will feature tastes from local restaurants and beverage companies. Take the opportunity to see the zoo after-hours\, visit with the animals\, and enjoy yard games with friends all while savoring tasty treats! Have some extra fun and wear your costume! \nTickets are $15 for zoo member and $20 for non-members. Each guest will receive three drink tickets upon entry\, with additional tickets available for purchase. Vendors will include: \nTexas Roadhouse\nOutback Steakhouse \nRed Cedar Spirits\nSaugatuck Brewing\nSierra Rose Cider \nPurchase your tickets here
URL:https://potterparkzoo.org/event/zoooooo-nights/
ATTACH;FMTTYPE=image/png:https://potterparkzoo.org/wp-content/uploads/2021/10/Screen-Shot-2021-10-11-at-10.14.26-PM.png
END:VEVENT
END:VCALENDAR