BEGIN:VCALENDAR
VERSION:2.0
PRODID:-//Potter Park Zoo - ECPv6.15.20//NONSGML v1.0//EN
CALSCALE:GREGORIAN
METHOD:PUBLISH
X-ORIGINAL-URL:https://potterparkzoo.org
X-WR-CALDESC:Events for Potter Park Zoo
REFRESH-INTERVAL;VALUE=DURATION:PT1H
X-Robots-Tag:noindex
X-PUBLISHED-TTL:PT1H
BEGIN:VTIMEZONE
TZID:UTC
BEGIN:STANDARD
TZOFFSETFROM:+0000
TZOFFSETTO:+0000
TZNAME:UTC
DTSTART:20200101T000000
END:STANDARD
END:VTIMEZONE
BEGIN:VEVENT
DTSTART;TZID=UTC:20210912T090000
DTEND;TZID=UTC:20210912T170000
DTSTAMP:20260422T184900
CREATED:20210902T221550Z
LAST-MODIFIED:20210907T203156Z
UID:14239-1631437200-1631466000@potterparkzoo.org
SUMMARY:Grandparent’s Day at the Zoo – All Grandparents Get FREE Admission at the Gate
DESCRIPTION:All grandparents receive free admission ticket at the gate on September 13\, 2020. We can’t wait to see you at the zoo!
URL:https://potterparkzoo.org/event/grandparents-day-at-the-zoo-all-grandparents-get-free-admission-at-the-gate/
END:VEVENT
BEGIN:VEVENT
DTSTART;TZID=UTC:20210917T170000
DTEND;TZID=UTC:20210917T200000
DTSTAMP:20260422T184900
CREATED:20210913T211021Z
LAST-MODIFIED:20210913T211228Z
UID:14284-1631898000-1631908800@potterparkzoo.org
SUMMARY:Red Panda Paint Party!
DESCRIPTION:Tickets to this fundraiser are $49.95. Seating is Limited. SIGN UP at www.paintyourpoison.com/events/red-panda \nIn honor and celebration of Red Panda Day\, Sept. 18\, Paint Your Poison and the Potter Park Zoological Society are hosting a fun red panda puzzle-painting party! Here is what the night will include: \n  \n• EXCLUSIVE access to the zoo before and after the painting session. \n• Paint a puzzle painting starts at 6pm – includes locally designed wood puzzle and everything you need to paint with plus expert instruction. \n• Light snacks and refreshments provided. \n• Themed Trivia. \n• Door prizes. \n• Q & A with the experts at the zoo. \n  \nCome celebrate red pandas  in-person or with your kit at home! Part of the proceeds raised by the Society will be donated to the Red Panda Network. For the in-person event\, space is limited to 50 participants and masks will be required while indoors. We paint from 6pm to 7pm. Guests will also have the opportunity to walk the zoo before and after the event. \nCan’t make the event? You are able purchase and ship the puzzle kit straight to your home! Purchase the take-home kit at www.paintyourpoison.com/shop/redpandapuzzle. No experience is necessary to participate in this fundraiser. We encourage you to be creative with your puzzle! Learn more about Red Panda Day at Potter Park Zoo at https://potterparkzoo.org/event/red-panda-day/.
URL:https://potterparkzoo.org/event/red-panda-paint-party/
ATTACH;FMTTYPE=image/jpeg:https://potterparkzoo.org/wp-content/uploads/2021/09/20210826_141436-scaled.jpg
END:VEVENT
BEGIN:VEVENT
DTSTART;TZID=UTC:20210918T110000
DTEND;TZID=UTC:20210918T150000
DTSTAMP:20260422T184900
CREATED:20210712T235600Z
LAST-MODIFIED:20210913T213130Z
UID:13911-1631962800-1631977200@potterparkzoo.org
SUMMARY:Red Panda Day
DESCRIPTION:Come celebrate Red Pandas Saturday\, Sept. 18 at Potter Park Zoo! Volunteers will be on hand to answer all of your questions\, and guests can participate in fun family activities such as children’s crafts and a scavenger hunt. A number of animal enrichments are also scheduled – come join the fun!\n\n\n\nLion Enrichment – 11 a.m.\nRhino Enrichment – 12 p.m.\nBinturong & Kangaroo Enrichment – 1 p.m.\nRed Panda Enrichment and Keeper Talk – 2 p.m.
URL:https://potterparkzoo.org/event/red-panda-day/
LOCATION:Potter Park Zoo\, Potter Park Zoo\, Lansing\, MI\, 48912\, United States
ATTACH;FMTTYPE=image/png:https://potterparkzoo.org/wp-content/uploads/2021/07/International-red-panda-day-social-square.png
END:VEVENT
BEGIN:VEVENT
DTSTART;TZID=UTC:20210925T090000
DTEND;TZID=UTC:20210925T170000
DTSTAMP:20260422T184901
CREATED:20210907T181223Z
LAST-MODIFIED:20210923T034623Z
UID:14257-1632560400-1632589200@potterparkzoo.org
SUMMARY:Ingham County Free Day
DESCRIPTION:Ingham County & Lansing City Residents will receive free admission to Potter Park Zoo on Sept. 25\, 2020! \nThe zoo will be open 9 a.m. – 5 p.m. See you at this fun (FREE) event! Visitors will still be responsible for parking fees. \nPlease bring an ID to verify Ingham County residency for tickets purchased online or to receive your discount at the gate. \n 
URL:https://potterparkzoo.org/event/ingham-county-free-day-4/
ATTACH;FMTTYPE=image/png:https://potterparkzoo.org/wp-content/uploads/2021/09/Ingham-County-Free-Day.png
END:VEVENT
BEGIN:VEVENT
DTSTART;TZID=UTC:20210925T100000
DTEND;TZID=UTC:20210925T160000
DTSTAMP:20260422T184901
CREATED:20210713T000043Z
LAST-MODIFIED:20210923T022638Z
UID:13915-1632564000-1632585600@potterparkzoo.org
SUMMARY:World Rhino Day
DESCRIPTION:What: World Rhino Day\nWhen: Saturday\, Sept. 25\, 10 a.m. – 4 p.m.\nWhere: Potter Park Zoo\n\n\nJoin us in celebrating the 12th annual World Rhino Day at Potter Park Zoo! Learn about rhinos at our conservation tables\, play rhino themed games\, and see our resident black rhinos Doppsee\, Jaali\, and Phineus.\n\nKeepers will be providing rhino enrichment at 10 a.m.\, 12 p.m.\, 2 p.m.\, and 4 p.m. You don’t want to miss this event!\n*Event included with regular admission*
URL:https://potterparkzoo.org/event/world-rhino-day-4/
ATTACH;FMTTYPE=image/png:https://potterparkzoo.org/wp-content/uploads/2021/07/RPD-Facebook-cover.png
END:VEVENT
BEGIN:VEVENT
DTSTART;TZID=UTC:20210929T080000
DTEND;TZID=UTC:20210929T170000
DTSTAMP:20260422T184901
CREATED:20210929T182351Z
LAST-MODIFIED:20210929T182351Z
UID:14381-1632902400-1632934800@potterparkzoo.org
SUMMARY:Jaali's Going Away Party
DESCRIPTION:What: Jaali‘s Going–Away Party\nWhen: Oct. 2 – 3\, 10 a.m. – 4 p.m.\nWhere: Potter Park Zoo\nSince his birth in 2019\, Jaali has inspired staff and visitors\, brought notoriety to rhino conservation\, and solidified himself as a Lansing icon. Now\, it’s time for the next chapter in his story. To celebrate Jaali’s time at Potter Park and wish him well at his new home in California\, we’re hosting a going-away party the weekend of Oct. 2-3 from 10 a.m. to 4 p.m. \nVisit educations stations\, sign a special farewell banner\, and check out unique rhino enrichments occurring at 10 a.m.\, 12 p.m.\, 2 p.m.\, and 4 p.m. Don’t miss this final chance to see Lansing’s favorite black rhino in action! \nRead more: https://potterparkzoo.org/jaali-farewell-party/
URL:https://potterparkzoo.org/event/jaalis-going-away-party/
ATTACH;FMTTYPE=image/png:https://potterparkzoo.org/wp-content/uploads/2021/09/Jaali-Goodbye-final.png
END:VEVENT
END:VCALENDAR