BEGIN:VCALENDAR
VERSION:2.0
PRODID:-//Potter Park Zoo - ECPv6.15.20//NONSGML v1.0//EN
CALSCALE:GREGORIAN
METHOD:PUBLISH
X-WR-CALNAME:Potter Park Zoo
X-ORIGINAL-URL:https://potterparkzoo.org
X-WR-CALDESC:Events for Potter Park Zoo
REFRESH-INTERVAL;VALUE=DURATION:PT1H
X-Robots-Tag:noindex
X-PUBLISHED-TTL:PT1H
BEGIN:VTIMEZONE
TZID:UTC
BEGIN:STANDARD
TZOFFSETFROM:+0000
TZOFFSETTO:+0000
TZNAME:UTC
DTSTART:20200101T000000
END:STANDARD
END:VTIMEZONE
BEGIN:VEVENT
DTSTART;TZID=UTC:20210818T170000
DTEND;TZID=UTC:20210818T200000
DTSTAMP:20260422T202709
CREATED:20210130T003644Z
LAST-MODIFIED:20210813T230957Z
UID:12387-1629306000-1629316800@potterparkzoo.org
SUMMARY:Members Night
DESCRIPTION:This one of a kind event for Potter Park Zoo Members filled with animal education stations\, kids activities\, light meal (hotdog\, chips\, drink and a treat)\, keeper/animal care talks\, plus more and of course our animal residents. This annual event celebrates the contribution members make to the future of the zoo.\nJOIN THE FUN!\nBecome a Potter Park Zoo Member Now – HERE!\nOR… if you want to see what this is all about first…\nSPECIAL OPPORTUNITY FOR NON-MEMBERS!\nIf you have ever wondered what it’s like to be a Potter Park Zoo member\, now is their chance to find out! For those attendees who purchase a ticket they will have the opportunity to have their ticket total deducted from a membership purchase within 2 weeks after the event. Offer is valid through August 31st\, 2021.\n\nCLICK HERE for non-member tickets.\n\nA limited number of Non-Member tickets are available to this unique event. Advance purchase online only.
URL:https://potterparkzoo.org/event/members-night-4/
ATTACH;FMTTYPE=image/jpeg:https://potterparkzoo.org/wp-content/uploads/2021/01/Members-night-fb-cover-1-scaled.jpg
END:VEVENT
BEGIN:VEVENT
DTSTART;TZID=UTC:20210821T183000
DTEND;TZID=UTC:20210822T093000
DTSTAMP:20260422T202709
CREATED:20210730T193409Z
LAST-MODIFIED:20210816T211142Z
UID:14023-1629570600-1629624600@potterparkzoo.org
SUMMARY:Sundown Safari Camping
DESCRIPTION:Have you ever wanted to spend the night at the zoo? Now’s your chance! Potter Park Zoo is offering an opportunity for families and small groups to come experience the zoo after dark. On day of the event\, arrive at the zoo by 6:30 p.m. so you have plenty of time to set up your tent and stay all the way until 9:30 am the next morning! If you need more time to set up\, you can arrive as early as 6:00 p.m. \nCampers will take a guided tour of the zoo\, enjoy s’mores around the campfire\, watch a movie outdoors\, and sleep under the stars! A continental breakfast and zoo admission the next day are included. Participants must provide their own gear (tent\, sleeping bags\, etc)\, and children must be accompanied by an adult.\n  \nCost: \n\n$35 per person (non-member price)\n\n\n$30 per person (member price)*\n*To receive the member discount\, log-in using the GREEN LOG-IN button in the upper right corner\, after you click on the registration button below. \n\nQuestions? Contact the Education Department at 517-342-2713.\n\nClick HERE to register!\n\n(Last day to register  is August 20\, 2021 at 11:55 PM)\n  \nCancellation Information: \n\nIf you need to cancel\, please cancel  (call 517-342-2713) at least 5 days in advance\, so your spot may be offered to someone else.  No-shows are ineligible for a refund.
URL:https://potterparkzoo.org/event/sundown-safari-camping-3/
ATTACH;FMTTYPE=image/jpeg:https://potterparkzoo.org/wp-content/uploads/2021/08/SunSaf-FB-banner-new-dates-01-scaled.jpg
END:VEVENT
BEGIN:VEVENT
DTSTART;VALUE=DATE:20210826
DTEND;VALUE=DATE:20210827
DTSTAMP:20260422T202709
CREATED:20210130T003442Z
LAST-MODIFIED:20210823T212616Z
UID:12385-1629936000-1630022399@potterparkzoo.org
SUMMARY:Zoo Nights – #4
DESCRIPTION:For our 21+ guests: \nZoo Nights is a casual\, happy hour style event that will feature tastes from local restaurants and beverage companies. Take the opportunity to see the zoo after-hours\, visit with the animals\, and enjoy yard games with friends all while savoring tasty treats! \nTickets are $15 for zoo member and $20 for non-members. Each guest will receive three drink tickets upon entry\, with additional tickets available for purchase. Vendors will include: \nTexas Roadhouse\nOutback Steakhouse\nMcAlister’s Deli \nRed Cedar Spirits\nEllison Brewery & Spirits\nEagleMonk Pub and Brewery\nSierra Rose Cider \nPurchase your tickets below: ⁠ \nhttps://ppzrectrac.ingham.org/wbwsc/webtrac.wsc/splash.html?ccode=SUBZOONIGHTS\nTo find tickets\, manually adjust the dates in the search window. There are 500 spots \, and no additional tickets will be available after sold out.
URL:https://potterparkzoo.org/event/zoo-nights-4/
ATTACH;FMTTYPE=image/png:https://potterparkzoo.org/wp-content/uploads/2021/01/Facebook-Banner-zoo-nights-4-01.png
END:VEVENT
END:VCALENDAR