BEGIN:VCALENDAR
VERSION:2.0
PRODID:-//Potter Park Zoo - ECPv6.15.20//NONSGML v1.0//EN
CALSCALE:GREGORIAN
METHOD:PUBLISH
X-ORIGINAL-URL:https://potterparkzoo.org
X-WR-CALDESC:Events for Potter Park Zoo
REFRESH-INTERVAL;VALUE=DURATION:PT1H
X-Robots-Tag:noindex
X-PUBLISHED-TTL:PT1H
BEGIN:VTIMEZONE
TZID:UTC
BEGIN:STANDARD
TZOFFSETFROM:+0000
TZOFFSETTO:+0000
TZNAME:UTC
DTSTART:20200101T000000
END:STANDARD
END:VTIMEZONE
BEGIN:VEVENT
DTSTART;TZID=UTC:20210403T120000
DTEND;TZID=UTC:20210403T140000
DTSTAMP:20260423T025318
CREATED:20210317T030031Z
LAST-MODIFIED:20210318T081314Z
UID:12789-1617451200-1617458400@potterparkzoo.org
SUMMARY:Frogwatch 2021 - Session 3
DESCRIPTION:FrogWatch USA is the AZA’s citizen science program and it provides individuals\, small groups and families opportunities to learn about the wetlands and amphibians native to mid-Michigan. \nInterested in volunteering? All volunteers must attend a training class taught by Potter Park Zoo staff where you will learn to identify different species of native frogs and toads by their calls. We also ask that all FrogWatch volunteers commit to holding at least four listening sessions between April and August. Listening sessions occur after sunset but last for only five minutes. No prior knowledge of frog and toad calls is required. \nFor more information visit: https://www.aza.org/frogwatch \nRegister for this session here: https://www.eventbrite.com/e/copy-of-frogwatch-2021-session-3-tickets-146630767573
URL:https://potterparkzoo.org/event/frogwatch-2021-session-3/
LOCATION:Potter Park Zoo\, Potter Park Zoo\, Lansing\, MI\, 48912\, United States
END:VEVENT
END:VCALENDAR