BEGIN:VCALENDAR
VERSION:2.0
PRODID:-//Potter Park Zoo - ECPv6.15.20//NONSGML v1.0//EN
CALSCALE:GREGORIAN
METHOD:PUBLISH
X-WR-CALNAME:Potter Park Zoo
X-ORIGINAL-URL:https://potterparkzoo.org
X-WR-CALDESC:Events for Potter Park Zoo
REFRESH-INTERVAL;VALUE=DURATION:PT1H
X-Robots-Tag:noindex
X-PUBLISHED-TTL:PT1H
BEGIN:VTIMEZONE
TZID:UTC
BEGIN:STANDARD
TZOFFSETFROM:+0000
TZOFFSETTO:+0000
TZNAME:UTC
DTSTART:20190101T000000
END:STANDARD
END:VTIMEZONE
BEGIN:VEVENT
DTSTART;TZID=UTC:20201111T100000
DTEND;TZID=UTC:20201111T160000
DTSTAMP:20260423T112641
CREATED:20200228T211936Z
LAST-MODIFIED:20201111T180456Z
UID:9515-1605088800-1605110400@potterparkzoo.org
SUMMARY:Veterans Day – All Military and Their Families Get FREE Admission at the Gate
DESCRIPTION:Thank you to all of our veterans and military members! We’re offering free admission to all military AND their families this Veteran’s Day November 11\, 2020. We’re open from 10 a.m. – 4 p.m.We hope to see you at the zoo! \n\n\n\nPlease Note: Free admission for veterans and their families is not available to be reserved online and can be obtained only at the admissions gate. All other members of your party are encouraged to purchase a timed-entry ticket online before arriving at the zoo.\n ​
URL:https://potterparkzoo.org/event/veteransday2020/
END:VEVENT
END:VCALENDAR