BEGIN:VCALENDAR
VERSION:2.0
PRODID:-//Potter Park Zoo - ECPv6.15.20//NONSGML v1.0//EN
CALSCALE:GREGORIAN
METHOD:PUBLISH
X-ORIGINAL-URL:https://potterparkzoo.org
X-WR-CALDESC:Events for Potter Park Zoo
REFRESH-INTERVAL;VALUE=DURATION:PT1H
X-Robots-Tag:noindex
X-PUBLISHED-TTL:PT1H
BEGIN:VTIMEZONE
TZID:UTC
BEGIN:STANDARD
TZOFFSETFROM:+0000
TZOFFSETTO:+0000
TZNAME:UTC
DTSTART:20190101T000000
END:STANDARD
END:VTIMEZONE
BEGIN:VEVENT
DTSTART;TZID=UTC:20200704T090000
DTEND;TZID=UTC:20200704T170000
DTSTAMP:20260423T180456
CREATED:20200228T211322Z
LAST-MODIFIED:20200228T211322Z
UID:9509-1593853200-1593882000@potterparkzoo.org
SUMMARY:Fourth of July at the Zoo - Military Receive Free Admission!
DESCRIPTION:Happy Independence Day! The zoo will be open from 9 a.m. to 5 p.m. for all to enjoy!\n\n\n \n\n\nThis year we’d like to say thank you by offering free admission to Potter Park Zoo to all United States Military.\n\n\n \n\n\nStandard admission rates for the rest of your party. Can’t wait to see you at the zoo! 
URL:https://potterparkzoo.org/event/fourth-of-july-at-the-zoo-military-receive-free-admission-2/
END:VEVENT
BEGIN:VEVENT
DTSTART;TZID=UTC:20200707T090000
DTEND;TZID=UTC:20200708T170000
DTSTAMP:20260423T180456
CREATED:20200228T190729Z
LAST-MODIFIED:20200506T005801Z
UID:9475-1594112400-1594227600@potterparkzoo.org
SUMMARY:*Canceled* Zoo Days 2020
DESCRIPTION:*Please Note: This Event Has Been Canceled for 2020*  \nEnjoy admission to Potter Park Zoo for only $2 with a voucher Tuesday\, July 7 and Wednesday\, July 8! \nJoin us for this wonderful family-friendly event presented in part by Meijer! We’ll have a variety of games and activities offered by our community partners\, free Meijer give-aways\, and of course\, you can pay a visit to the animal residents! \nDon’t forget to grab a complimentary popsicle on your way out! \n  \nEvent Details:  \nJuly 7 & 8 during zoo hours  (9 a.m. – 5 p.m.) \nTickets: Admission is only $2 with a voucher and parking will be free. Vouchers can be found at the following Greater Lansing Meijer locations (one voucher needed per person at the admission gate): \n*Vouchers will be available at the following Meijer locations approximately 2 weeks before the event date. \n\nOkemos: 2055 W Grand River Okemos\, MI 48864\nBath: 7157 E. Saginaw St. East Lansing\, MI 48823\nSouth Lansing: 6200 S Pennsylvania Ave. Lansing\, MI 48911\nWest Lansing: 5125 W Saginaw Hwy Lansing\, MI 48917\nLake Lansing: W Lake Lansing Rd East Lansing\, MI 48823\nMason: 550 Hull Rd. Mason\, MI 48854\nGrand Ledge: 730 E Saginaw Hwy. Grand Ledge\, MI 48837\nDeWitt: 12821 Crossover Drive DeWitt\, MI 48820
URL:https://potterparkzoo.org/event/zoo-days-2020/
END:VEVENT
BEGIN:VEVENT
DTSTART;TZID=UTC:20200711T130000
DTEND;TZID=UTC:20200711T150000
DTSTAMP:20260423T180456
CREATED:20200228T201318Z
LAST-MODIFIED:20200501T200100Z
UID:9498-1594472400-1594479600@potterparkzoo.org
SUMMARY:*Canceled* Animal Enrichment Event: Just Chillin’ with the Animals 
DESCRIPTION:*Please Note: This Event Has Been Canceled for 2020*  \nJuly 11\, 1:00-3:00 p.m. (included with regular admission) \nSee how the zoo’s animals keep their cool during the summer… think ice and summer food treats! \nAnimal enrichment provides our animals with species-specific opportunities that encourage mental and physical activity and natural behaviors. It is good for the animals\, and it allows us to glimpse some very interesting things. \nEnrichment events are included with regular admission price. It’s a great time to see the animals at their most active. Photographers bring your camera for some great action photos!\n ​
URL:https://potterparkzoo.org/event/animal-enrichment-event-just-chillin-with-the-animals/
END:VEVENT
END:VCALENDAR