BEGIN:VCALENDAR
VERSION:2.0
PRODID:-//Potter Park Zoo - ECPv6.15.20//NONSGML v1.0//EN
CALSCALE:GREGORIAN
METHOD:PUBLISH
X-ORIGINAL-URL:https://potterparkzoo.org
X-WR-CALDESC:Events for Potter Park Zoo
REFRESH-INTERVAL;VALUE=DURATION:PT1H
X-Robots-Tag:noindex
X-PUBLISHED-TTL:PT1H
BEGIN:VTIMEZONE
TZID:UTC
BEGIN:STANDARD
TZOFFSETFROM:+0000
TZOFFSETTO:+0000
TZNAME:UTC
DTSTART:20190101T000000
END:STANDARD
END:VTIMEZONE
BEGIN:VEVENT
DTSTART;TZID=UTC:20200308T130000
DTEND;TZID=UTC:20200308T160000
DTSTAMP:20260424T000847
CREATED:20200224T214507Z
LAST-MODIFIED:20200225T215637Z
UID:9400-1583672400-1583683200@potterparkzoo.org
SUMMARY:Session 1: FrogWatch USA Training at Potter Park Zoo
DESCRIPTION:Become a FrogWatch Citizen Scientist! \n \nPotter Park Zoo is inviting Michigan residents to become volunteer citizen scientists and join the local chapter of FrogWatch USA. The program teaches volunteers how to identify frogs and toads by their breeding calls and help to gather data that supports a national network. This is a great program for adults and children alike and a great spring time activity for families\, friends\, individuals and groups to get outdoors. Families with children under 12 should contact us to ensure this program is right for them. \n  \nYou do not have to be a frog or toad expert to be a FrogWatch USA volunteer! All you need is: \n\nAn interest in frogs and toads;\nAttend one training session and join the local FrogWatch USA chapter\nA commitment to follow the standardized protocol to monitor a wetland site over multiple evenings throughout the breeding season (February – August)\n\n\nFrogWatch training classes for 2020 will be offered in the Coral Reef Room at Potter Park Zoo on the following dates:\n  \nSession 1: March 8 at 1:00 p.m. – Register Here \n  \nAdditional dates and times for the same training: \n\nMarch 21 – 1 p.m.\nMarch 22 – 1 p.m.​\n\n  \nPlease don’t hesitate to reach out to ppzfrogwatch@ingham.org  with questions or for more information on the program. ​ \n 
URL:https://potterparkzoo.org/event/session-1-frogwatch-usa-training-at-potter-park-zoo-3/
ATTACH;FMTTYPE=image/jpeg:https://potterparkzoo.org/wp-content/uploads/2020/02/FrogWatch-2020-scaled.jpg
END:VEVENT
BEGIN:VEVENT
DTSTART;TZID=UTC:20200321T100000
DTEND;TZID=UTC:20200321T130000
DTSTAMP:20260424T000847
CREATED:20200130T203312Z
LAST-MODIFIED:20200314T012036Z
UID:9151-1584784800-1584795600@potterparkzoo.org
SUMMARY:*CANCELLED* FALCONERS Sensory Friendly Event: “Sense”-sational Zoo!
DESCRIPTION:IMPORTANT NOTICE: This event has been cancelled. Please read our blog for updates!\n\nFALCONERS is designed to allow children or adults of all ages with special needs and unique challenges (such as autism or developmental disabilities) and their whole family to have an enriching educational experience in a safe\, welcoming and sensory friendly environment. There will be one sensory friendly event in Lansing\, Michigan per month throughout 2020.\n\n\n \n\n\nMarch Event: “Sense”-sational Zoo!\n\n\nSaturday\, March 21 \, 2020 10:00 AM-1:00 PM\n\n\n \n\n\nMarch’s FALCONERS theme is “Sense”-sational Zoo! This is a new FALCONERS theme and we’ll be learning about the five senses\, how animals use their senses to survive in the wild\, and how that relates to us! Fun crafts and activities will let you discover new facts that you may have never known about the animals. Light snacks (and coffee for parents!) will be served.\n\n\n \n\n\nWe are planning to have all of the activities inside with the option to explore the zoo on your own. Please dress for the weather if you plan to go out into the zoo. The gift shop will open at 10:00 AM. The concessions will be closed during this event.\n\n\n \n\n\nClick here to register for the Saturday March 21 FALCONERS event at Potter Park Zoo: https://potterparkzoo.doubleknot.com/event/falconers-march-2020/2627808
URL:https://potterparkzoo.org/event/falconers-sensory-friendly-event-sense-sational-zoo/
ATTACH;FMTTYPE=image/jpeg:https://potterparkzoo.org/wp-content/uploads/2020/01/FALCONERS-March.jpg
END:VEVENT
BEGIN:VEVENT
DTSTART;TZID=UTC:20200321T130000
DTEND;TZID=UTC:20200321T160000
DTSTAMP:20260424T000847
CREATED:20200224T214552Z
LAST-MODIFIED:20200314T012101Z
UID:9405-1584795600-1584806400@potterparkzoo.org
SUMMARY:*Cancelled* Session 2: FrogWatch USA Training at Potter Park Zoo
DESCRIPTION:IMPORTANT NOTICE: This event has been cancelled. Please read our blog for updates!\n\n\nBecome a FrogWatch Citizen Scientist! \n \nPotter Park Zoo is inviting Michigan residents to become volunteer citizen scientists and join the local chapter of FrogWatch USA. The program teaches volunteers how to identify frogs and toads by their breeding calls and help to gather data that supports a national network. This is a great program for adults and children alike and a great spring time activity for families\, friends\, individuals and groups to get outdoors. Families with children under 12 should contact us to ensure this program is right for them. \n  \nYou do not have to be a frog or toad expert to be a FrogWatch USA volunteer! All you need is: \n\nAn interest in frogs and toads;\nAttend one training session and join the local FrogWatch USA chapter\nA commitment to follow the standardized protocol to monitor a wetland site over multiple evenings throughout the breeding season (February – August)\n\n\nFrogWatch training classes for 2020 will be offered in the Coral Reef Room at Potter Park Zoo on the following dates:\n  \nSession 2: March 21 at 1:00 p.m. – Register Here \n  \nAdditional dates and times for the same training: \n\nMarch 8 – 1 p.m.\nMarch 22 – 1 p.m.​\n\n  \nPlease don’t hesitate to reach out to ppzfrogwatch@ingham.org  with questions or for more information on the program. ​ \n 
URL:https://potterparkzoo.org/event/session-2-frogwatch-usa-training-at-potter-park-zoo-3/
ATTACH;FMTTYPE=image/jpeg:https://potterparkzoo.org/wp-content/uploads/2020/02/FrogWatch-2020-scaled.jpg
END:VEVENT
BEGIN:VEVENT
DTSTART;TZID=UTC:20200322T130000
DTEND;TZID=UTC:20200322T160000
DTSTAMP:20260424T000847
CREATED:20200224T214705Z
LAST-MODIFIED:20200314T173335Z
UID:9407-1584882000-1584892800@potterparkzoo.org
SUMMARY:*Cancelled* Session 3: FrogWatch USA Training at Potter Park Zoo
DESCRIPTION:IMPORTANT NOTICE: This event has been cancelled. Please read our blog for updates!\n\n\nBecome a FrogWatch Citizen Scientist! \n \nPotter Park Zoo is inviting Michigan residents to become volunteer citizen scientists and join the local chapter of FrogWatch USA. The program teaches volunteers how to identify frogs and toads by their breeding calls and help to gather data that supports a national network. This is a great program for adults and children alike and a great spring time activity for families\, friends\, individuals and groups to get outdoors. Families with children under 12 should contact us to ensure this program is right for them. \n  \nYou do not have to be a frog or toad expert to be a FrogWatch USA volunteer! All you need is: \n\nAn interest in frogs and toads;\nAttend one training session and join the local FrogWatch USA chapter\nA commitment to follow the standardized protocol to monitor a wetland site over multiple evenings throughout the breeding season (February – August)\n\n\nFrogWatch training classes for 2020 will be offered in the Coral Reef Room at Potter Park Zoo on the following dates:\n  \nSession 3: March 22 at 1:00 p.m. – Register Here \n  \nAdditional dates and times for the same training: \n\nMarch 8 – 1 p.m.\nMarch 21 – 1 p.m.​\n\n  \nPlease don’t hesitate to reach out to ppzfrogwatch@ingham.org  with questions or for more information on the program. ​ \n 
URL:https://potterparkzoo.org/event/session-3-frogwatch-usa-training-at-potter-park-zoo-3/
ATTACH;FMTTYPE=image/jpeg:https://potterparkzoo.org/wp-content/uploads/2020/02/FrogWatch-2020-scaled.jpg
END:VEVENT
END:VCALENDAR