BEGIN:VCALENDAR
VERSION:2.0
PRODID:-//Potter Park Zoo - ECPv6.15.20//NONSGML v1.0//EN
CALSCALE:GREGORIAN
METHOD:PUBLISH
X-WR-CALNAME:Potter Park Zoo
X-ORIGINAL-URL:https://potterparkzoo.org
X-WR-CALDESC:Events for Potter Park Zoo
REFRESH-INTERVAL;VALUE=DURATION:PT1H
X-Robots-Tag:noindex
X-PUBLISHED-TTL:PT1H
BEGIN:VTIMEZONE
TZID:UTC
BEGIN:STANDARD
TZOFFSETFROM:+0000
TZOFFSETTO:+0000
TZNAME:UTC
DTSTART:20190101T000000
END:STANDARD
END:VTIMEZONE
BEGIN:VEVENT
DTSTART;TZID=UTC:20200218T180000
DTEND;TZID=UTC:20200218T193000
DTSTAMP:20260424T012451
CREATED:20200130T202556Z
LAST-MODIFIED:20200130T202556Z
UID:9148-1582048800-1582054200@potterparkzoo.org
SUMMARY:Falconers Sensory Friendly Event: Star Safari at Abrams Planetarium
DESCRIPTION:FALCONERS is designed to allow children or adults of all ages with special needs and unique challenges (such as autism or developmental disabilities) and their whole family to have an enriching educational experience in a safe\, welcoming and sensory friendly environment. There will be one sensory friendly event in Lansing\, Michigan per month throughout 2020.\n\n\n \n\n\nFebruary Event: \n\n\n \n\n\nOFFSITE: Star Safari at Abrams Planetarium (MSU)\n\n\nTuesday\, February 18\, 2020 6:00-7:30 PM\n\n\n \n\n\nIn February\, we are partnering with our friends at Abrams Planetarium on the campus of MSU for a special “Star Safari” program. This will be a different format from our other events as we will have scheduled activities rather than drop-in stations. Join us as we explore the stars and discover that many of the constellations we see are pictures of animals! We’ll learn a little bit about the mythology behind the constellations\, and some facts about the animals they represent. Doors will open at 6:00 PM with live animals and activities in the lobby. Seating for the sensory friendly theater presentation will begin around 6:30 with the presentation beginning at 6:45.\n\n\n \n\n\nPLEASE NOTE THAT THIS EVENT TAKES PLACE AT ABRAMS PLANETARIUM ON THE CAMPUS OF MSU.\n\n\n \n\n\nThis program is capped at 150 people because of limited seating in the auditorium at Abrams Planetarium!\n\n\n \n\n\nPlease be aware that food and drink are prohibited in the theater itself.\n\n\n \n\n\nClick here to register for the Tuesday\, February 18 FALCONERS event at Abrams Planetarium: https://potterparkzoo.doubleknot.com/event/falconers-february-2020/2627755
URL:https://potterparkzoo.org/event/falconers-sensory-friendly-event-star-safari-at-abrams-planetarium/
ATTACH;FMTTYPE=image/jpeg:https://potterparkzoo.org/wp-content/uploads/2020/01/falconers-planetarium-scaled.jpg
END:VEVENT
BEGIN:VEVENT
DTSTART;TZID=UTC:20200228T080000
DTEND;TZID=UTC:20200228T170000
DTSTAMP:20260424T012451
CREATED:20200228T213351Z
LAST-MODIFIED:20200228T221811Z
UID:9520-1582876800-1582909200@potterparkzoo.org
SUMMARY:Animal Enrichment Event: Tailgate for the Animals
DESCRIPTION:Don’t miss it! College Day is the same day! (free admission to college students with valid college ID)  \nAnimal Enrichment Event: Tailgate for the Animals (Open to all and free with admission!)  \nOctober 4\, 2020\, 1:00 – 3:00 p.m. \nIt’s time for some fun with the upcoming MSU vs UM football game. See the animals predict the outcome of the game\, based on the choices they make. \nAnimal enrichment provides our animals with species-specific opportunities that encourage mental and physical activity and natural behaviors. It is good for the animals\, and it allows us to glimpse some very interesting things. \nEnrichment events are included with regular admission price. It’s a great time to see the animals at their most active. Photographers bring your camera for some great action photos!\n ​\n\n\nCollege Day! (Free Admission to College Students with valid college ID)  \nOctober 4\, 2020 – 9 – 5  p.m. \nDon’t miss free admission to Potter Park Zoo for students with current college ID!
URL:https://potterparkzoo.org/event/animal-enrichment-event-tailgate-for-the-animals/
END:VEVENT
BEGIN:VEVENT
DTSTART;TZID=UTC:20200229T130000
DTEND;TZID=UTC:20200229T150000
DTSTAMP:20260424T012451
CREATED:20200219T201238Z
LAST-MODIFIED:20200228T213119Z
UID:9355-1582981200-1582988400@potterparkzoo.org
SUMMARY:Animal Enrichment Event: Winter Gifts for the Animals
DESCRIPTION:Rescheduled to Saturday\, February 29\, 2020 1 to 3 p.m. \nWhat are the animals at the zoo up to after the holidays? See what the animals do when they receive special gifts in boxes. Lots of fun for the family!\n\nEnrichment events are included with regular admission price. It’s a great time to see the animals at their most active. Photographers bring your camera for some great action photos!
URL:https://potterparkzoo.org/event/enrichment-event-winter-gifts-for-the-animals/
ATTACH;FMTTYPE=image/jpeg:https://potterparkzoo.org/wp-content/uploads/2020/02/Enrichment-Event-Feb-1-scaled.jpg
END:VEVENT
END:VCALENDAR