BEGIN:VCALENDAR
VERSION:2.0
PRODID:-//Potter Park Zoo - ECPv6.15.20//NONSGML v1.0//EN
CALSCALE:GREGORIAN
METHOD:PUBLISH
X-WR-CALNAME:Potter Park Zoo
X-ORIGINAL-URL:https://potterparkzoo.org
X-WR-CALDESC:Events for Potter Park Zoo
REFRESH-INTERVAL;VALUE=DURATION:PT1H
X-Robots-Tag:noindex
X-PUBLISHED-TTL:PT1H
BEGIN:VTIMEZONE
TZID:UTC
BEGIN:STANDARD
TZOFFSETFROM:+0000
TZOFFSETTO:+0000
TZNAME:UTC
DTSTART:20180101T000000
END:STANDARD
END:VTIMEZONE
BEGIN:VEVENT
DTSTART;TZID=UTC:20191006T090000
DTEND;TZID=UTC:20191006T170000
DTSTAMP:20260424T081157
CREATED:20190314T200020Z
LAST-MODIFIED:20190919T223407Z
UID:6962-1570352400-1570381200@potterparkzoo.org
SUMMARY:College Day
DESCRIPTION:College Day  \nAll college students get free admission to the zoo with a valid student identification card! (including any children of the student). \nDon’t miss the exciting enrichment event on the same day! Between 1 and 3 p.m. the animals will be having a pre-celebration to kick off the excitement of the BIG game between the Michigan State Spartans and the University of Michigan Wolverines. The animals will be making their prediction on the outcomes of the game\, based on their enrichment choices. \nShow your team spirit by wearing your team colors. \n  \n-ALSO on October 6! –  \n  \nTailgate with the Animals  \nThis isn’t your typical tailgate. It’s the Zoo’s animals receiving football-themed treats and making choices that will “predict“ the outcome of the BIG Michigan vs. Michigan State football game. Wear your team’s colors and catch the fun from 1 – 3 p.m.! \nAnimal Enrichment Events are the best time to see the animals being active. This event is included with regular admission price. \nCollege students: Don’t forget to show your valid college student ID for FREE admission to Potter Park Zoo from 9 to 5 p.m. on Sunday\, October 6.
URL:https://potterparkzoo.org/event/college-day/
ATTACH;FMTTYPE=image/jpeg:https://potterparkzoo.org/wp-content/uploads/2019/03/college-day-2019.jpg
END:VEVENT
BEGIN:VEVENT
DTSTART;TZID=UTC:20191006T130000
DTEND;TZID=UTC:20191006T150000
DTSTAMP:20260424T081157
CREATED:20190314T200109Z
LAST-MODIFIED:20190919T224707Z
UID:6964-1570366800-1570374000@potterparkzoo.org
SUMMARY:Animal Enrichment Event: Tailgate with the Animals
DESCRIPTION:Tailgate with the Animals  \nThis isn’t your typical tailgate. It’s the Zoo’s animals receiving football-themed treats and making choices that will “predict“ the outcome of the BIG Michigan vs. Michigan State football game. Wear your team’s colors and catch the fun from 1 – 3 p.m.! \nAnimal Enrichment Events are the best time to see the animals being active. This event is included with regular admission price. \nCollege students: Don’t forget to show your valid college student ID for FREE admission to Potter Park Zoo from 9 to 5 p.m. on Sunday\, October 6. \n 
URL:https://potterparkzoo.org/event/animal-enrichment-event-tailgate-with-the-animals/
ATTACH;FMTTYPE=image/jpeg:https://potterparkzoo.org/wp-content/uploads/2019/03/tailgate-2019.jpg
END:VEVENT
BEGIN:VEVENT
DTSTART;TZID=UTC:20191012T120000
DTEND;TZID=UTC:20191013T170000
DTSTAMP:20260424T081157
CREATED:20190314T195741Z
LAST-MODIFIED:20190924T000804Z
UID:6954-1570881600-1570986000@potterparkzoo.org
SUMMARY:Boo at the Zoo: October 12-13
DESCRIPTION:Join us for Boo at the Zoo on three different weekends this year!  \nOctober 12-13 \nOctober 19-20 \nOctober 26-27 \nActivities from 12 – 5 p.m. each day \nLittle ghouls and boys will enjoy an afternoon of spooktacular fun! There will be tons of activities for everyone to enjoy. We encourage all kids (big and small!) to come dressed in their spookiest\, scariest\, or prettiest Halloween costumes. \nEnjoy free activities for the family:\n– A straw maze\n– Candy stations\n– Activities provided by community partners \nActivity tickets (1 set of Activity Tickets = 4 tickets) can be purchased at the event for an additional $5 (optional purchase) and can be used for:\n– A trip through the Boo Tunnel\n– A hayride\n– Cider and donuts\n– The Black-Light Skeleton Room \n– Obstacle Course/Witch Hat Toss \n– Live Ambassador Animal Presentations \n  \n \n  \n  \n  \n Click Here to Buy Your Tickets Today! \n  \n  \n  \n  \n  \nAdmission: \nIngham County Resident Adult – $6.00 \nNon-Resident Adult – $12.00 \nIngham County Resident Senior (60+) – $5.00 \nNon-Resident Senior – $11.00 \nAll Children (ages 3-12) – $5.00 \nAll Children Under 3 – FREE \nPotter Park Zoo Deluxe and Premium receive FREE admission to Boo at the Zoo! Become a member or upgrade your membership today –> https://potterparkzoo.org/membership/ \n**Reciprocal zoo memberships do not allow access to special events such as Boo at the Zoo or Wonderland of Lights
URL:https://potterparkzoo.org/event/boo-at-the-zoo-october-12-13/
ATTACH;FMTTYPE=image/jpeg:https://potterparkzoo.org/wp-content/uploads/2019/03/Boo-19-FB-event-cover.jpg
END:VEVENT
BEGIN:VEVENT
DTSTART;TZID=UTC:20191018T170000
DTEND;TZID=UTC:20191018T193000
DTSTAMP:20260424T081157
CREATED:20190922T185040Z
LAST-MODIFIED:20190922T185040Z
UID:8385-1571418000-1571427000@potterparkzoo.org
SUMMARY:FALCONERS Special Boo at the Zoo
DESCRIPTION:*Registration Required for This Event* \nFALCONERS is designed to allow children or adults of all ages with special needs and unique challenges (such as autism or developmental disabilities) and their whole family to have an enriching educational experience in a safe\, welcoming and sensory friendly environment. There will be one sensory friendly event in Lansing\, Michigan per month throughout 2019. \nFALCONERS Special Boo at the Zoo! \nFriday\, October 18: 5:00 PM – 7:30 PM \nFor our October activity\, we will be hosting a very special evening of Boo at the Zoo\, our annual sensory-friendly Halloween event! It will take place Friday\, October 18 from 5:00-7:30 PM. The zoo will be closed to the public at this time\, so you can enjoy many aspects of the public event but without the crowds. Participants are welcome to come in costume if they wish. We will have games\, cider and donuts\, animal encounters\, crafts\, and more! \nParticipants are asked to pre-register to get free admission to the zoo and access to the activities. \nTo register for Boo at the Zoo on Friday\, October 18\, please click here: https://potterparkzoo.doubleknot.com/event/falconers-october-2019/2569598
URL:https://potterparkzoo.org/event/falconers-special-boo-at-the-zoo-2/
ATTACH;FMTTYPE=image/jpeg:https://potterparkzoo.org/wp-content/uploads/2019/09/Boo-19-FALCONERS-FB-event-cover.jpg
END:VEVENT
BEGIN:VEVENT
DTSTART;TZID=UTC:20191019T120000
DTEND;TZID=UTC:20191020T170000
DTSTAMP:20260424T081157
CREATED:20190314T195812Z
LAST-MODIFIED:20190924T000736Z
UID:6956-1571486400-1571590800@potterparkzoo.org
SUMMARY:Boo at the Zoo: October 19-20
DESCRIPTION:Join us for Boo at the Zoo on three different weekends this year!  \nOctober 12-13 \nOctober 19-20 \nOctober 26-27 \nActivities from 12 – 5 p.m. each day \nLittle ghouls and boys will enjoy an afternoon of spooktacular fun! There will be tons of activities for everyone to enjoy. We encourage all kids (big and small!) to come dressed in their spookiest\, scariest\, or prettiest Halloween costumes. \nEnjoy free activities for the family:\n– A straw maze\n– Candy stations\n– Activities provided by community partners \nActivity tickets (1 set of Activity Tickets = 4 tickets) can be purchased at the event for an additional $5 (optional purchase) and can be used for: \n– A trip through the Boo Tunnel \n– A hayride \n– Cider and donuts \n– The Black-Light Skeleton Room \n– Obstacle Course/Witch Hat Toss \n– Live Ambassador Animal Presentations \n  \n \n  \n  \n  \n Click Here to Buy Your Tickets Today! \n  \n  \n  \n  \n  \nAdmission: \nIngham County Resident Adult – $6.00 \nNon-Resident Adult – $12.00 \nIngham County Resident Senior (60+) – $5.00 \nNon-Resident Senior – $11.00 \nAll Children (ages 3-12) – $5.00 \nAll Children Under 3 – FREE \nPotter Park Zoo Deluxe and Premium receive FREE admission to Boo at the Zoo! Become a member or upgrade your membership today –> https://potterparkzoo.org/membership/ \n**Reciprocal zoo memberships do not allow access to special events such as Boo at the Zoo or Wonderland of Lights
URL:https://potterparkzoo.org/event/boo-at-the-zoo-october-19-20/
ATTACH;FMTTYPE=image/jpeg:https://potterparkzoo.org/wp-content/uploads/2019/03/Boo-19-FB-event-cover.jpg
END:VEVENT
BEGIN:VEVENT
DTSTART;TZID=UTC:20191026T120000
DTEND;TZID=UTC:20191027T170000
DTSTAMP:20260424T081157
CREATED:20190314T195844Z
LAST-MODIFIED:20191023T223609Z
UID:6958-1572091200-1572195600@potterparkzoo.org
SUMMARY:Boo at the Zoo: October 26-27
DESCRIPTION:Join us for Boo at the Zoo on three different weekends this year!  \nOctober 12-13 \nOctober 19-20 \nOctober 26-27 \nActivities from 12 – 5 p.m. each day \nLittle ghouls and boys will enjoy an afternoon of spooktacular fun! There will be tons of activities for everyone to enjoy. We encourage all kids (big and small!) to come dressed in their spookiest\, scariest\, or prettiest Halloween costumes. \nEnjoy free activities for the family:\n– A straw maze\n– Candy stations\n– Activities provided by community partners \n  \nActivity tickets (1 set of Activity Tickets = 4 tickets) can be purchased at the event for an additional $5 (optional purchase) and can be used for*: \n– A trip through the Boo Tunnel \n– A hayride \n– Cider and donuts \n– The Black-Light Skeleton Room \n– Obstacle Course/Witch Hat Toss \n– Live Ambassador Animal Presentations \n*1 activity ticket needed per person for each activity \n \n  \n  \n  \n Click Here to Buy Your Tickets Today! \n  \n  \n  \n  \n  \nAdmission: \nIngham County Resident Adult – $6.00 \nNon-Resident Adult – $12.00 \nIngham County Resident Senior (60+) – $5.00 \nNon-Resident Senior – $11.00 \nAll Children (ages 3-12) – $5.00 \nAll Children Under 3 – FREE \nPotter Park Zoo Deluxe and Premium receive FREE admission to Boo at the Zoo! Become a member or upgrade your membership today –> https://potterparkzoo.org/membership/ \n**Reciprocal zoo memberships do not allow access to special events such as Boo at the Zoo or Wonderland of Lights
URL:https://potterparkzoo.org/event/boo-at-the-zoo-october-26-67/
ATTACH;FMTTYPE=image/jpeg:https://potterparkzoo.org/wp-content/uploads/2019/03/Boo-19-FB-event-cover.jpg
END:VEVENT
END:VCALENDAR