BEGIN:VCALENDAR
VERSION:2.0
PRODID:-//Potter Park Zoo - ECPv6.15.20//NONSGML v1.0//EN
CALSCALE:GREGORIAN
METHOD:PUBLISH
X-WR-CALNAME:Potter Park Zoo
X-ORIGINAL-URL:https://potterparkzoo.org
X-WR-CALDESC:Events for Potter Park Zoo
REFRESH-INTERVAL;VALUE=DURATION:PT1H
X-Robots-Tag:noindex
X-PUBLISHED-TTL:PT1H
BEGIN:VTIMEZONE
TZID:UTC
BEGIN:STANDARD
TZOFFSETFROM:+0000
TZOFFSETTO:+0000
TZNAME:UTC
DTSTART:20180101T000000
END:STANDARD
END:VTIMEZONE
BEGIN:VEVENT
DTSTART;TZID=UTC:20190702T080000
DTEND;TZID=UTC:20190702T170000
DTSTAMP:20260424T130133
CREATED:20190702T221552Z
LAST-MODIFIED:20190702T221805Z
UID:7866-1562054400-1562086800@potterparkzoo.org
SUMMARY:July FALCONERS: Water\, Water Everywhere!
DESCRIPTION:July 20: 8:00 AM – 11:00 AM \nFALCONERS is designed to allow children or adults of all ages with special needs and unique challenges (such as autism or developmental disabilities) and their whole family to have an enriching educational experience in a safe\, welcoming and sensory friendly environment. There will be one sensory friendly event in Lansing\, Michigan per month throughout 2019. \nThe July event’s theme is “Water\, Water Everywhere”! Activity stations will be set-up throughout the zoo and participants can visit them at their own pace. About 71 percent of the Earth’s surface is covered by water! Did you know our very own Great Lakes holds the most amount of freshwater? Come and learn about animals that live in and around water. You may even be able to find some of them in your own backyard. Be prepared\, you might have a chance to get wet! The zoo will open one hour early (at 8:00 AM) just for FALCONERS families\, but you may arrive later and still participate. Activities will continue until 11:00 AM\, and families may stay and enjoy the zoo for as long as they wish. \nPlease pre-register to get free admission to the zoo and access to the activities. Light snacks will be provided. \nTo register for the Saturday July 20 event\, please click here: https://potterparkzoo.doubleknot.com/event/falconers-july-2019/2529660 
URL:https://potterparkzoo.org/event/july-falconers-water-water-everywhere/
ATTACH;FMTTYPE=image/jpeg:https://potterparkzoo.org/wp-content/uploads/2019/07/july-falconers.jpg
END:VEVENT
BEGIN:VEVENT
DTSTART;TZID=UTC:20190702T080000
DTEND;TZID=UTC:20190702T170000
DTSTAMP:20260424T130133
CREATED:20190702T222552Z
LAST-MODIFIED:20190702T222719Z
UID:7870-1562054400-1562086800@potterparkzoo.org
SUMMARY:August FALCONERS: What’s for Lunch?
DESCRIPTION:August 24: 8:00 AM – 11:00 AM  \nFALCONERS is designed to allow children or adults of all ages with special needs and unique challenges (such as autism or developmental disabilities) and their whole family to have an enriching educational experience in a safe\, welcoming and sensory friendly environment. There will be one sensory friendly event in Lansing\, Michigan per month throughout 2019. \nThe August event’s theme is “What’s for Lunch?”! Activity stations will be set-up throughout the zoo and participants can visit them at their own pace. There are a lot of different animals at the zoo\, and they eat a lot of different things! We’ll explore what animals eat at the zoo and in the wild\, how animals hunt\, and how they avoid being hunted! The zoo will open one hour early (at 8:00 AM) just for FALCONERS families\, but you may arrive later and still participate. Activities will continue until 11:00 AM\, and families may stay and enjoy the zoo for as long as they wish. Light snacks will be provided. The gift shop and concessions stands will be open during this event. \nPlease pre-register to get free admission to the zoo and access to the activities. \nTo register for the Saturday\, August 24 event\, please click here.
URL:https://potterparkzoo.org/event/august-falconers-whats-for-lunch/
ATTACH;FMTTYPE=image/jpeg:https://potterparkzoo.org/wp-content/uploads/2019/07/August-FALCONERS.jpg
END:VEVENT
BEGIN:VEVENT
DTSTART;TZID=UTC:20190704T090000
DTEND;TZID=UTC:20190704T170000
DTSTAMP:20260424T130133
CREATED:20190528T232552Z
LAST-MODIFIED:20190528T232653Z
UID:7644-1562230800-1562259600@potterparkzoo.org
SUMMARY:Fourth of July at the Zoo: Military Receive Free Admission!
DESCRIPTION:Happy Independence Day! The zoo will be open from 9 a.m. to 5 p.m. for all to enjoy! \n\n\n \n\n\nThis year we’d like to say thank you by offering free admission to Potter Park Zoo to all United States Military.\n\n\n \n\n\nStandard admission rates for the rest of your party: \n\n\nResident Adult – $6.00\n\n\nNon-Resident Adult – $12.00\n\n\nResident Senior (60+) – $5.00\n\n\nNon-Resident Senior – $11.00\n\n\nAll Children (ages 3-12) – $5.00\n\n\nAll Children Under 3 – FREE
URL:https://potterparkzoo.org/event/fourth-of-july-at-the-zoo-military-receive-free-admission/
ATTACH;FMTTYPE=image/jpeg:https://potterparkzoo.org/wp-content/uploads/2019/05/4th-of-july.jpg
END:VEVENT
BEGIN:VEVENT
DTSTART;TZID=UTC:20190709T090000
DTEND;TZID=UTC:20190710T170000
DTSTAMP:20260424T130133
CREATED:20190314T195301Z
LAST-MODIFIED:20190627T220342Z
UID:6945-1562662800-1562778000@potterparkzoo.org
SUMMARY:Zoo Days! (July 9 & 10)
DESCRIPTION:Enjoy admission to Potter Park Zoo for only $1 with a voucher Tuesday\, July 9 and Wednesday\, July 10! \nJoin us for this wonderful family-friendly event presented in part by Meijer! We’ll have a variety of games and activities offered by our community partners\, free Meijer give-aways\, and of course you can pay a visit to the animal residents. Don’t forget to grab a complimentary popsicle on your way out! \nJuly 9 and 10 from 9 a.m. – 5 p.m. \nTickets: Admission is only $1 with a voucher and parking will be free. Vouchers can be found at the following Greater Lansing Meijer locations (one voucher needed per person at the admission gate): \n*Vouchers will be available at the following Meijer locations approximately 2 weeks before the event date. \n\nOkemos: 2055 W Grand River Okemos\, MI 48864\nBath: 7157 E. Saginaw St. East Lansing\, MI 48823\nSouth Lansing: 6200 S Pennsylvania Ave. Lansing\, MI 48911\nWest Lansing: 5125 W Saginaw Hwy Lansing\, MI 48917\nLake Lansing: W Lake Lansing Rd East Lansing\, MI 48823\nMason: 550 Hull Rd. Mason\, MI 48854\nGrand Ledge: 730 E Saginaw Hwy. Grand Ledge\, MI 48837\nDeWitt: 12821 Crossover Drive DeWitt\, MI 48820
URL:https://potterparkzoo.org/event/zoo-days-july-9-10/
ATTACH;FMTTYPE=image/jpeg:https://potterparkzoo.org/wp-content/uploads/2019/03/zoo-days-2019-NEW.jpg
END:VEVENT
BEGIN:VEVENT
DTSTART;TZID=UTC:20190721T130000
DTEND;TZID=UTC:20190721T150000
DTSTAMP:20260424T130133
CREATED:20190314T195352Z
LAST-MODIFIED:20190720T171703Z
UID:6947-1563714000-1563721200@potterparkzoo.org
SUMMARY:Animal Enrichment Event – Just Chillin’ with the Animals
DESCRIPTION:*POSTPONED UNTIL SUNDAY\, JULY 21 DUE TO EXTREME HEAT*  \nHow do our Zoo animals keep their cool during the heat of summer? Think ice\, sprinklers\, and picnics. We’ll have special themed enrichments for the animals and we invite you to join us and see what the animals do with them! \nAnimal Enrichment Events are included in the regular admission price when you visit the zoo. These events are great for people of all ages to attend. Animals can be their most active when interacting with enrichment. \nTime: Saturday\, July 20 from 1-3 p.m. \nPrice: Included in regular admission
URL:https://potterparkzoo.org/event/uly-20-animal-enrichment-event-just-chillin-with-the-animals/
ATTACH;FMTTYPE=image/jpeg:https://potterparkzoo.org/wp-content/uploads/2019/03/just-chillin-2-copy.jpg
END:VEVENT
END:VCALENDAR