BEGIN:VCALENDAR
VERSION:2.0
PRODID:-//Potter Park Zoo - ECPv6.15.20//NONSGML v1.0//EN
CALSCALE:GREGORIAN
METHOD:PUBLISH
X-ORIGINAL-URL:https://potterparkzoo.org
X-WR-CALDESC:Events for Potter Park Zoo
REFRESH-INTERVAL;VALUE=DURATION:PT1H
X-Robots-Tag:noindex
X-PUBLISHED-TTL:PT1H
BEGIN:VTIMEZONE
TZID:UTC
BEGIN:STANDARD
TZOFFSETFROM:+0000
TZOFFSETTO:+0000
TZNAME:UTC
DTSTART:20180101T000000
END:STANDARD
END:VTIMEZONE
BEGIN:VEVENT
DTSTART;TZID=UTC:20190601T100000
DTEND;TZID=UTC:20190601T170000
DTSTAMP:20260424T143842
CREATED:20190314T194849Z
LAST-MODIFIED:20190529T220349Z
UID:6939-1559383200-1559408400@potterparkzoo.org
SUMMARY:World Migratory Bird Day/Be a Tourist in Your Town
DESCRIPTION:World Migratory Bird Day celebrates spring with the return of millions of migratory birds to their breeding areas! The zoo partners with the US Fish and Wildlife Service\, Michigan Department of Natural Resources\, Fenner Nature Conservancy and several other organizations to provide interactive stations throughout the zoo to teach you about the importance of migratory birds\, and provide fun activities for the whole family. \nWorld Migratory Bird Day is celebrated in conjunction with GLCVB’s “Be A Tourist In Your Own Town.” Admission is free with a “Be A Tourist” passport available at the zoo and many other locations in the Lansing area. \nPrice: General Admission / Free with a “Be A Tourist” passport
URL:https://potterparkzoo.org/event/world-migratory-bird-day-be-a-tourist-in-your-town/
ATTACH;FMTTYPE=image/jpeg:https://potterparkzoo.org/wp-content/uploads/2019/03/bird-day-2019.jpg
END:VEVENT
BEGIN:VEVENT
DTSTART;TZID=UTC:20190616T090000
DTEND;TZID=UTC:20190616T170000
DTSTAMP:20260424T143842
CREATED:20190314T200631Z
LAST-MODIFIED:20190522T180402Z
UID:6971-1560675600-1560704400@potterparkzoo.org
SUMMARY:Father’s Day at the Zoo – Dads Get FREE Admission
DESCRIPTION:Celebrate Father’s Day at the Zoo! All dads will receive FREE admission to Potter Park Zoo on June 16! \nFarmyard EdVentures\, Wings Down Under\, Bungee Jump\, Train and Pony rides are open for the season. We can’t wait to see you here at the zoo!
URL:https://potterparkzoo.org/event/fathers-day-at-the-zoo-dads-get-free-admission-2/
ATTACH;FMTTYPE=image/jpeg:https://potterparkzoo.org/wp-content/uploads/2019/03/fathers-day-19.jpg
END:VEVENT
BEGIN:VEVENT
DTSTART;TZID=UTC:20190622T080000
DTEND;TZID=UTC:20190622T110000
DTSTAMP:20260424T143842
CREATED:20190522T001333Z
LAST-MODIFIED:20190522T001333Z
UID:7601-1561190400-1561201200@potterparkzoo.org
SUMMARY:FALCONERS “Nature Play”
DESCRIPTION:FALCONERS is designed to allow children or adults of all ages with special needs and unique challenges (such as autism or developmental disabilities) and their whole family to have an enriching educational experience in a safe\, welcoming and sensory friendly environment. There will be one sensory friendly event in Lansing\, Michigan per month throughout 2019. \nJune 22: 8:00 AM – 11:00 AM  \nThe June event’s theme is “Nature Play”! Activity stations will be set-up throughout the zoo and participants can visit them at their own pace. We will have fun playing and learning in nature! From fun outdoor games\, to animal pose yoga\, and learning about how important it is to get outside\, it is going to be a great day! The zoo will open one hour early (at 8:00 AM) just for FALCONERS families\, but you may arrive later and still participate. Activities will continue until 11:00 AM\, and families may stay and enjoy the zoo for as long as they wish. \nPlease pre-register to get free admission to the zoo and access to the activities.  Light snacks will be provided. \nTo register for the Saturday\, June 22 event\, please click here.
URL:https://potterparkzoo.org/event/falconers-nature-play/
ATTACH;FMTTYPE=image/jpeg:https://potterparkzoo.org/wp-content/uploads/2019/05/IMG_9746-copy.jpg
END:VEVENT
END:VCALENDAR