BEGIN:VCALENDAR
VERSION:2.0
PRODID:-//Potter Park Zoo - ECPv6.15.20//NONSGML v1.0//EN
CALSCALE:GREGORIAN
METHOD:PUBLISH
X-ORIGINAL-URL:https://potterparkzoo.org
X-WR-CALDESC:Events for Potter Park Zoo
REFRESH-INTERVAL;VALUE=DURATION:PT1H
X-Robots-Tag:noindex
X-PUBLISHED-TTL:PT1H
BEGIN:VTIMEZONE
TZID:UTC
BEGIN:STANDARD
TZOFFSETFROM:+0000
TZOFFSETTO:+0000
TZNAME:UTC
DTSTART:20180101T000000
END:STANDARD
END:VTIMEZONE
BEGIN:VEVENT
DTSTART;TZID=UTC:20190112T130000
DTEND;TZID=UTC:20190112T150000
DTSTAMP:20260424T215954
CREATED:20190107T223046Z
LAST-MODIFIED:20190107T223046Z
UID:6281-1547298000-1547305200@potterparkzoo.org
SUMMARY:Winter Gifts for the Animals: An Animal Enrichment Event
DESCRIPTION:The season of gift giving is not over at the Potter Park Zoo! Join us as the animals receive special enrichment gifts on Saturday\, January 12 from 1:00 to 3:00. p.m. \nAnimal Enrichment Events are included in the regular admission price when you visit the zoo. These events are great for people of all ages to attend. Animals can be their most active when interacting with enrichment. \nTime: Saturday\, January 12 from 1-3 p.m. \nPrice: Included in regular admission
URL:https://potterparkzoo.org/event/winter-gifts-for-the-animals-an-animal-enrichment-event/
ATTACH;FMTTYPE=image/jpeg:https://potterparkzoo.org/wp-content/uploads/2019/01/winter-gifts-enrichment.jpg
END:VEVENT
END:VCALENDAR