BEGIN:VCALENDAR
VERSION:2.0
PRODID:-//Potter Park Zoo - ECPv6.15.20//NONSGML v1.0//EN
CALSCALE:GREGORIAN
METHOD:PUBLISH
X-WR-CALNAME:Potter Park Zoo
X-ORIGINAL-URL:https://potterparkzoo.org
X-WR-CALDESC:Events for Potter Park Zoo
REFRESH-INTERVAL;VALUE=DURATION:PT1H
X-Robots-Tag:noindex
X-PUBLISHED-TTL:PT1H
BEGIN:VTIMEZONE
TZID:UTC
BEGIN:STANDARD
TZOFFSETFROM:+0000
TZOFFSETTO:+0000
TZNAME:UTC
DTSTART:20170101T000000
END:STANDARD
END:VTIMEZONE
BEGIN:VEVENT
DTSTART;TZID=UTC:20180710T090000
DTEND;TZID=UTC:20180711T170000
DTSTAMP:20260425T070248
CREATED:20180301T211843Z
LAST-MODIFIED:20180626T010247Z
UID:3987-1531213200-1531328400@potterparkzoo.org
SUMMARY:Zoo Days
DESCRIPTION:Enjoy Admission to Potter Park Zoo for only $1 with voucher on Tuesday July 10 and Wednesday\, July 11! \nJoin us for this wonderful family-friendly event presented in part by Meijer! We’ll have a variety of games and activities offered by our community partners\, free Meijer give-aways\, and of course you can pay a visit to the animal residents. Don’t forget to grab a complimentary popsicle on your way out! \nJuly 10th & 11th from 9am – 5 pm \nTickets: Admission is only $1 with a voucher and parking will be free. Vouchers can be found at the following Greater Lansing Meijer locations (one voucher needed per person at the admission gate): \n*Vouchers will be available approximately 2 weeks before event date. \nOkemos\nBath\nSouth Lansing\nWest Lansing\nLake Lansing\nMason\nGrand Ledge\nDeWitt
URL:https://potterparkzoo.org/event/zoo-days-2/
END:VEVENT
BEGIN:VEVENT
DTSTART;TZID=UTC:20180721T130000
DTEND;TZID=UTC:20180721T150000
DTSTAMP:20260425T070248
CREATED:20180516T191627Z
LAST-MODIFIED:20180516T192520Z
UID:4648-1532178000-1532185200@potterparkzoo.org
SUMMARY:Just Chillin' With the Animals - Animal Enrichment Event
DESCRIPTION:How do our Zoo animals keep their cool during the heat of summer? Think ice\, sprinklers\, and picnics. We’ve made special themed enrichment for the animals and we invite you to join us and see what the animals do with them! \nAnimal Enrichment Events are included in the regular admission price when you visit the zoo. These events are great for people of all ages to attend. Animals can be their most active when interacting with enrichment. \nTime: Saturday\, July 21 from 1-3 p.m. \nPrice: Included in regular admission \n 
URL:https://potterparkzoo.org/event/just-chillin-with-the-animals-animal-enrichment-event/
ATTACH;FMTTYPE=image/jpeg:https://potterparkzoo.org/wp-content/uploads/2018/05/just-chillin-2.jpg
END:VEVENT
BEGIN:VEVENT
DTSTART;TZID=UTC:20180726T170000
DTEND;TZID=UTC:20180726T220000
DTSTAMP:20260425T070248
CREATED:20180301T212010Z
LAST-MODIFIED:20180720T183806Z
UID:3990-1532624400-1532642400@potterparkzoo.org
SUMMARY:Zoo Brew: Acoustic Night
DESCRIPTION:Potter Park Zoo is excited to continue our Zoo Brew series with Acoustic Night at the zoo! \nZoo Brew is the best live music venue in town. Enjoy Lansing Brewing beverages and a cook-out dinner with exclusive after hours access to the zoo. Kick back on a blanket or at a picnic table while you enjoy the zoo animals and local tunes. \n*This event is for visitors 21 and over \nOnline ticket sales are now LIVE! –> https://www.eventbrite.com/e/july-zoo-brew-acoustic-night-tickets-45687729228 \n$5 in advance (purchase online!) | $7 at the gate \nAttend All Three Zoo Brew events for only $10! (online purchase only) \nJuly 26 from 5pm – 10pm
URL:https://potterparkzoo.org/event/zoo-brew-acoustic-night/
END:VEVENT
END:VCALENDAR