BEGIN:VCALENDAR
VERSION:2.0
PRODID:-//Potter Park Zoo - ECPv6.15.20//NONSGML v1.0//EN
CALSCALE:GREGORIAN
METHOD:PUBLISH
X-WR-CALNAME:Potter Park Zoo
X-ORIGINAL-URL:https://potterparkzoo.org
X-WR-CALDESC:Events for Potter Park Zoo
REFRESH-INTERVAL;VALUE=DURATION:PT1H
X-Robots-Tag:noindex
X-PUBLISHED-TTL:PT1H
BEGIN:VTIMEZONE
TZID:UTC
BEGIN:STANDARD
TZOFFSETFROM:+0000
TZOFFSETTO:+0000
TZNAME:UTC
DTSTART:20170101T000000
END:STANDARD
END:VTIMEZONE
BEGIN:VEVENT
DTSTART;TZID=UTC:20180224T100000
DTEND;TZID=UTC:20180224T140000
DTSTAMP:20260425T145222
CREATED:20180124T013454Z
LAST-MODIFIED:20180124T021441Z
UID:3479-1519466400-1519480800@potterparkzoo.org
SUMMARY:FALCONERS “Star Safari
DESCRIPTION:Potter Park Zoo is pleased to announce that our program for autistic learners and their families has been expanded to include children with other special needs. FALCONERS is designed to allow autistic or other special needs learners and their whole family to have an enriching educational experience in a safe and welcoming environment. There will be one event per month throughout 2018. \nIn February\, we are partnering with our friends at Abrams Planetarium on the campus of MSU for a special “Star Safari” program.  This will be a different format from our other events as we will have scheduled activities rather than drop-in stations.  Join us as we explore the stars and discover that many of the constellations we see are pictures of animals!  We’ll learn a little bit about the mythology behind the constellations\, and some facts about the animals they represent.  The sensory friendly theater presentation will begin shortly after 10:00 and we will have live animals and crafts in the lobby afterwards.   Light snacks (and coffee for adults!) will be provided after the theater portion of the program. \nPLEASE NOTE THAT THIS EVENT TAKES PLACE AT ABRAMS PLANETARIUM ON THE CAMPUS OF MSU. \nThere is a small charge of $1.50 per person for this off-site event. \nTo register for the Saturday February 24 event at Abrams Planetarium\, please click here.
URL:https://potterparkzoo.org/event/falconers-star-safari/
ATTACH;FMTTYPE=image/png:https://potterparkzoo.org/wp-content/uploads/2018/01/Falconerslogo.png
END:VEVENT
END:VCALENDAR