BEGIN:VCALENDAR
VERSION:2.0
PRODID:-//Potter Park Zoo - ECPv6.15.20//NONSGML v1.0//EN
CALSCALE:GREGORIAN
METHOD:PUBLISH
X-WR-CALNAME:Potter Park Zoo
X-ORIGINAL-URL:https://potterparkzoo.org
X-WR-CALDESC:Events for Potter Park Zoo
REFRESH-INTERVAL;VALUE=DURATION:PT1H
X-Robots-Tag:noindex
X-PUBLISHED-TTL:PT1H
BEGIN:VTIMEZONE
TZID:UTC
BEGIN:STANDARD
TZOFFSETFROM:+0000
TZOFFSETTO:+0000
TZNAME:UTC
DTSTART:20170101T000000
END:STANDARD
END:VTIMEZONE
BEGIN:VEVENT
DTSTART;TZID=UTC:20180125T180000
DTEND;TZID=UTC:20180125T200000
DTSTAMP:20260425T162020
CREATED:20180116T191116Z
LAST-MODIFIED:20180122T194628Z
UID:3434-1516903200-1516910400@potterparkzoo.org
SUMMARY:Conservation Talk: Working Dogs for Conservation
DESCRIPTION:Join us Thursday January\, 25th at 6 p.m. in the Safari Room at Potter Park Zoo for a conservation talk featuring Working Dogs for Conservation (WD4C)\, in collaboration with the Michigan Wildlife Conservancy and the Institute for Rare Mammal Studies in Michigan. \nPete Coppolillo PhD\, Executive Director of Working Dogs for Conservation from Montana\, will give an overview of the amazing things conservation detection dogs do in the course of their work. He’ll touch briefly on the characteristics that make a good dog\, how WD4C rescues the dogs they train\, and he’ll share stories from the field. \nWildlife Biologist Dr. Patrick Rusz\, the Director of Programs for Michigan Wildlife Conservancy will give an introduction. \nPublic is welcome! Admission is free\, however we have great news to share! Potter Park Zoo is joining together in a conservation project in Michigan with the Michigan Wildlife Conservancy and the Working Dogs for Conservation Montana. \nPlease consider making a donation at the door for this local conservation project!
URL:https://potterparkzoo.org/event/conservation-talk-working-dogs-for-conservation/
LOCATION:Potter Park Zoo\, Potter Park Zoo\, Lansing\, MI\, 48912\, United States
ATTACH;FMTTYPE=image/jpeg:https://potterparkzoo.org/wp-content/uploads/2018/01/12375780564_7f9cca2e58_o-copy-copy.jpg
END:VEVENT
BEGIN:VEVENT
DTSTART;TZID=UTC:20180127T100000
DTEND;TZID=UTC:20180127T130000
DTSTAMP:20260425T162020
CREATED:20180124T013139Z
LAST-MODIFIED:20180124T013233Z
UID:3476-1517047200-1517058000@potterparkzoo.org
SUMMARY:FALCONERS “Around the World”
DESCRIPTION:FALCONERS “Around the World” \nPotter Park Zoo is pleased to announce that our program for autistic learners and their families has been expanded to include children with other special needs. FALCONERS is designed to allow autistic or other special needs learners and their whole family to have an enriching educational experience in a safe and welcoming environment. There will be one event per month throughout 2018. \nJoin us for our January event as we go around the world right here at Potter Park Zoo! We will be exploring how people and cultures around the world view animals through folktales\, crafts\, and other activities. \nPlease pre-register to get free admission to the zoo and access to the activities. Please note that the concession stands and gift shop will be closed. Light snacks (and coffee for parents!) will be provided. \nTo register for the Saturday January 27 event\, please click here:http://potterparkzoo.doubleknot.com/registration/calendardetail.aspx?ActivityKey=2290579&OrgKey=3195
URL:https://potterparkzoo.org/event/falconers-around-the-world/
ATTACH;FMTTYPE=image/jpeg:https://potterparkzoo.org/wp-content/uploads/2018/01/FALCONERS.jpg
END:VEVENT
END:VCALENDAR