BEGIN:VCALENDAR
VERSION:2.0
PRODID:-//Potter Park Zoo - ECPv6.15.20//NONSGML v1.0//EN
CALSCALE:GREGORIAN
METHOD:PUBLISH
X-ORIGINAL-URL:https://potterparkzoo.org
X-WR-CALDESC:Events for Potter Park Zoo
REFRESH-INTERVAL;VALUE=DURATION:PT1H
X-Robots-Tag:noindex
X-PUBLISHED-TTL:PT1H
BEGIN:VTIMEZONE
TZID:UTC
BEGIN:STANDARD
TZOFFSETFROM:+0000
TZOFFSETTO:+0000
TZNAME:UTC
DTSTART:20160101T000000
END:STANDARD
END:VTIMEZONE
BEGIN:VEVENT
DTSTART;TZID=UTC:20171117T170000
DTEND;TZID=UTC:20171231T200000
DTSTAMP:20260425T180230
CREATED:20170427T011538Z
LAST-MODIFIED:20171213T025757Z
UID:1273-1510938000-1514750400@potterparkzoo.org
SUMMARY:Wonderland of Lights
DESCRIPTION:Thousands of lights create extraordinary animal exhibits and holiday displays at the 23rd annual Wonderland of Lights! There will be cookies\, crafts and animal encounters for the kids to enjoy. \nWonderland of Lights is open on Thursdays through Sundays 5pm to 8pm only from Nov. 17 through Dec. 31. \nNEW: We’ve added dates for Wonderland of Lights! We will be open Dec. 19\, 20\, 26 and 27 in addition to the Thursday through Sunday schedule. Hope to see you there!  \nAdmission for Wonderland of Lights: $7 adults\, $5 for kids 3-12 and free for kids under 3. (Premium and Deluxe PPZ Members receive free admission to this event!) \n  \nUPDATES: We’re getting excited for the kick off of Wonderland of Lights! We have some exciting news: \n*The gift shop will be open Thursday & Friday 12-8 p.m.\, Saturday & Sunday 10-8p.m. Stop by for a perfect holiday gift for your animal lover! (gift shop will be closed on Thanksgiving\, but Wonderland of lights is open!) \n*The restaurant will be open on Friday and Saturday nights for Wonderland of Lights from 5-8 p.m. with a limited menu (restaurant will be closed on Thanksgiving\, but Wonderland of lights is open!) \n*Santa will be at the zoo seeing children on Fridays and Saturdays through Dec. 23! \n**Reciprocal zoo memberships do not allow access to special events such as Boot at the Zoo or Wonderland of Lights
URL:https://potterparkzoo.org/event/wonderland-of-lights/
LOCATION:Potter Park Zoo\, Potter Park Zoo\, Lansing\, MI\, 48912\, United States
ATTACH;FMTTYPE=image/jpeg:https://potterparkzoo.org/wp-content/uploads/2017/04/WOL-17-temp-FBE-copy.jpg
END:VEVENT
BEGIN:VEVENT
DTSTART;TZID=UTC:20171202T170000
DTEND;TZID=UTC:20171202T200000
DTSTAMP:20260425T180230
CREATED:20170427T011700Z
LAST-MODIFIED:20171011T220854Z
UID:1275-1512234000-1512244800@potterparkzoo.org
SUMMARY:Toys for Tots
DESCRIPTION:It’s our annual Toys drive\, and this year we’re stuffing a truck courtesy of Two Men and a Truck! Join your friends at the zoo to make this our most successful Toys for Tots night yet! On December 2nd\, each person who brings in a new\, unwrapped toy will be admitted to Wonderland of Lights for FREE. \nIn addition to visiting Santa and Mrs. Claus\, we’ll have cookie decorating and animal encounters. This will be a great night supporting a great cause!
URL:https://potterparkzoo.org/event/toys-for-tots/
LOCATION:Potter Park Zoo\, Potter Park Zoo\, Lansing\, MI\, 48912\, United States
END:VEVENT
BEGIN:VEVENT
DTSTART;TZID=UTC:20171206T170000
DTEND;TZID=UTC:20171206T210000
DTSTAMP:20260425T180230
CREATED:20170427T011807Z
LAST-MODIFIED:20171130T214504Z
UID:1277-1512579600-1512594000@potterparkzoo.org
SUMMARY:Winter Wine & Stein
DESCRIPTION:You love wining and steining in the summer! Now\, celebrate the wintery season with our WINTER casual after hours bash at the zoo! Enjoy tastings of craft beer and wine and sample fabulous hors d’oeuvres from local restaurants as you listen to holiday tunes and meander through the zoo\, featuring our holiday favorite Wonderland of Lights. \nAnd of course\, all of our animal residents will be there! \nTickets can be purchased online until 3 p.m. and at the gate until 8 p.m. December 6. \nMust be 21 or over to attend. \n 
URL:https://potterparkzoo.org/event/winter-wine-stein/
LOCATION:Potter Park Zoo\, Potter Park Zoo\, Lansing\, MI\, 48912\, United States
ATTACH;FMTTYPE=image/jpeg:https://potterparkzoo.org/wp-content/uploads/2017/04/wine-and-stein-square.jpg
END:VEVENT
END:VCALENDAR