BEGIN:VCALENDAR
VERSION:2.0
PRODID:-//Potter Park Zoo - ECPv6.15.20//NONSGML v1.0//EN
CALSCALE:GREGORIAN
METHOD:PUBLISH
X-ORIGINAL-URL:https://potterparkzoo.org
X-WR-CALDESC:Events for Potter Park Zoo
REFRESH-INTERVAL;VALUE=DURATION:PT1H
X-Robots-Tag:noindex
X-PUBLISHED-TTL:PT1H
BEGIN:VTIMEZONE
TZID:UTC
BEGIN:STANDARD
TZOFFSETFROM:+0000
TZOFFSETTO:+0000
TZNAME:UTC
DTSTART:20160101T000000
END:STANDARD
END:VTIMEZONE
BEGIN:VEVENT
DTSTART;TZID=UTC:20170917T100000
DTEND;TZID=UTC:20170917T160000
DTSTAMP:20260425T224625
CREATED:20170822T005216Z
LAST-MODIFIED:20170822T005556Z
UID:1907-1505642400-1505664000@potterparkzoo.org
SUMMARY:World Rhino Day
DESCRIPTION:To celebrate the 8th annual World Rhino Day\, we’re offering special tours and a behind-the-scenes look at our black rhino exhibit. Zookeepers will guide you into the exhibit holding area and show you the work that goes into the care and preservation of these amazing animals. You might even get a chance to meet one of these rare and endangered rhinos up close! \nThere will also be rhino informational tables and activities for the kids from 10 a.m. to 4 p.m. \n(NOTE: Tickets are limited and available on a first-come\, first-serve basis; so grab your tickets while you can!) \n \n \n \n*Please note\, zoo admission and parking are NOT included in this ticket price. Visitors will be responsible for those fees when they arrive at the zoo.
URL:https://potterparkzoo.org/event/world-rhino-day-2/
ATTACH;FMTTYPE=image/jpeg:https://potterparkzoo.org/wp-content/uploads/2017/08/20934789_10159181479595023_4353268643136921154_o.jpg
END:VEVENT
END:VCALENDAR