BEGIN:VCALENDAR
VERSION:2.0
PRODID:-//Potter Park Zoo - ECPv6.15.20//NONSGML v1.0//EN
CALSCALE:GREGORIAN
METHOD:PUBLISH
X-ORIGINAL-URL:https://potterparkzoo.org
X-WR-CALDESC:Events for Potter Park Zoo
REFRESH-INTERVAL;VALUE=DURATION:PT1H
X-Robots-Tag:noindex
X-PUBLISHED-TTL:PT1H
BEGIN:VTIMEZONE
TZID:UTC
BEGIN:STANDARD
TZOFFSETFROM:+0000
TZOFFSETTO:+0000
TZNAME:UTC
DTSTART:20160101T000000
END:STANDARD
END:VTIMEZONE
BEGIN:VEVENT
DTSTART;TZID=UTC:20170805T183000
DTEND;TZID=UTC:20170806T093000
DTSTAMP:20260426T001204
CREATED:20170713T170335Z
LAST-MODIFIED:20170713T170335Z
UID:1812-1501957800-1502011800@potterparkzoo.org
SUMMARY:Sundown Safari Family Camping
DESCRIPTION:Spend the night at the zoo! You may have heard about the great overnight experiences available to groups of 18 or more at Potter Park Zoo\, but did you know that we offer families and small groups the opportunity to spend the night in the zoo too? Join us August 5 for a special camp out under the stars! The Sundown Safari will be a memorable experience for your family or small group and includes:\nA guided tour of the zoo by our fun and knowledgeable docents\nA special educational activity with one of our animals\nAn evening snack by the campfire\nvide their own tent\, sleeping bags\, etc. No trailers are permitted.\nChildren must be accompanied by an adult.\nYou must register by August 4 to participate.\nQuestions? Call 517-342-2713 \nSaturday\, August 5\, 2017 – 6:30pm – Sunday\, August 6\, 2017 – 9:30am \nPrice: $30 members | $35 non-members \nClick here to register.
URL:https://potterparkzoo.org/event/sundown-safari-family-camping/
END:VEVENT
BEGIN:VEVENT
DTSTART;TZID=UTC:20170809T170000
DTEND;TZID=UTC:20170809T200000
DTSTAMP:20260426T001204
CREATED:20170427T005749Z
LAST-MODIFIED:20170427T005749Z
UID:1247-1502298000-1502308800@potterparkzoo.org
SUMMARY:Members Night
DESCRIPTION:A fun-filled evening of animal enrichment and experiences\, music\, food and much more is set for Wednesday\, August 9 at Potter Park Zoo. The annual event celebrates the contribution members make to the future of the zoo. Activities include a raffle\, food\, face painting\, train rides\, 15% off in the Zoovenier Gift Shop\, a table staffed by our keepers (American Association of Zoo Keepers)\, and fun family music!
URL:https://potterparkzoo.org/event/members-night/
LOCATION:Potter Park Zoo\, Potter Park Zoo\, Lansing\, MI\, 48912\, United States
END:VEVENT
BEGIN:VEVENT
DTSTART;TZID=UTC:20170831T170000
DTEND;TZID=UTC:20170831T210000
DTSTAMP:20260426T001204
CREATED:20170427T010148Z
LAST-MODIFIED:20170823T192651Z
UID:1252-1504198800-1504213200@potterparkzoo.org
SUMMARY:Zoo Brew - 3
DESCRIPTION:It’s our last Zoo Brew of 2017! Enjoy beer and food while meandering through the zoo listening to live music\, enjoying the animals and supporting Potter Park Zoo! Events like Zoo Brew raise essential funds to support the education and conservation mission of Potter Park Zoo. \nZoo Brew is the best music venue in town! With three musical acts each night\, food\, beverages and animals… Who else has that?! Settle in at a picnic table or bring a blanket to kick back on the lawn and listen to the tunes provided by local musical acts. Lansing Brewing Company will be on-site offering their tasty brewed beverages and if you’re hungry the zoo catering service will have dinner for purchase. \nAdvanced tickets: $5\, $7 at the door. Those who pre-register will get early access\, at 5pm. Those buying tickets at the door\, gates will open at 5:30pm. \nThis event is for visitors 21 and over. \n**NOTE: Zoo will close early on Zoo Brew days for setup\, at 3:30pm.
URL:https://potterparkzoo.org/event/zoo-brew-3/
LOCATION:Potter Park Zoo\, Potter Park Zoo\, Lansing\, MI\, 48912\, United States
ATTACH;FMTTYPE=image/jpeg:https://potterparkzoo.org/wp-content/uploads/2017/04/ZooBrewSliderNew-copy.jpg
END:VEVENT
END:VCALENDAR