BEGIN:VCALENDAR
VERSION:2.0
PRODID:-//Potter Park Zoo - ECPv6.15.20//NONSGML v1.0//EN
CALSCALE:GREGORIAN
METHOD:PUBLISH
X-WR-CALNAME:Potter Park Zoo
X-ORIGINAL-URL:https://potterparkzoo.org
X-WR-CALDESC:Events for Potter Park Zoo
REFRESH-INTERVAL;VALUE=DURATION:PT1H
X-Robots-Tag:noindex
X-PUBLISHED-TTL:PT1H
BEGIN:VTIMEZONE
TZID:UTC
BEGIN:STANDARD
TZOFFSETFROM:+0000
TZOFFSETTO:+0000
TZNAME:UTC
DTSTART:20160101T000000
END:STANDARD
END:VTIMEZONE
BEGIN:VEVENT
DTSTART;TZID=UTC:20170414T170000
DTEND;TZID=UTC:20170414T200000
DTSTAMP:20260423T011144
CREATED:20170315T215736Z
LAST-MODIFIED:20170315T215904Z
UID:853-1492189200-1492200000@potterparkzoo.org
SUMMARY:An Evening at a Living Museum
DESCRIPTION:Come join our zoo staff and volunteers as we explore conservation and the natural world as a part of the MSU Science Festival Nights at the Museum series! \nLots of hands-on activities will allow you to: \n\nview the microscopic world as a scientist\ntry your hand at a simulated veterinary lab\nlearn how to be an animal chef with our zookeepers\ntest your skill in the skull matching game\ndiscover some amazing things about bats\nlearn how to be a conservation champion at Party for the Planet\nhave an up-close encounter with our live ambassador animals\nand so much more!\n\nSelected exhibits will be open for our guests to explore\, too. Admission is free! \nThe MSU Science Festival is a multi-day series of events that highlight science\, technology\, engineering\, arts\, and mathematics (STEAM). Special events are held across the state\, including talks\, demonstrations\, tours\, open houses\, and hands-on activities for lifelong learners of all ages. www.sciencefestival.msu.edu.
URL:https://potterparkzoo.org/event/living-museum/
LOCATION:Potter Park Zoo\, Potter Park Zoo\, Lansing\, MI\, 48912\, United States
END:VEVENT
END:VCALENDAR