BEGIN:VCALENDAR
VERSION:2.0
PRODID:-//Potter Park Zoo - ECPv6.15.20//NONSGML v1.0//EN
CALSCALE:GREGORIAN
METHOD:PUBLISH
X-WR-CALNAME:Potter Park Zoo
X-ORIGINAL-URL:https://potterparkzoo.org
X-WR-CALDESC:Events for Potter Park Zoo
REFRESH-INTERVAL;VALUE=DURATION:PT1H
X-Robots-Tag:noindex
X-PUBLISHED-TTL:PT1H
BEGIN:VTIMEZONE
TZID:America/Detroit
BEGIN:DAYLIGHT
TZOFFSETFROM:-0500
TZOFFSETTO:-0400
TZNAME:EDT
DTSTART:20250309T070000
END:DAYLIGHT
BEGIN:STANDARD
TZOFFSETFROM:-0400
TZOFFSETTO:-0500
TZNAME:EST
DTSTART:20251102T060000
END:STANDARD
BEGIN:DAYLIGHT
TZOFFSETFROM:-0500
TZOFFSETTO:-0400
TZNAME:EDT
DTSTART:20260308T070000
END:DAYLIGHT
BEGIN:STANDARD
TZOFFSETFROM:-0400
TZOFFSETTO:-0500
TZNAME:EST
DTSTART:20261101T060000
END:STANDARD
BEGIN:DAYLIGHT
TZOFFSETFROM:-0500
TZOFFSETTO:-0400
TZNAME:EDT
DTSTART:20270314T070000
END:DAYLIGHT
BEGIN:STANDARD
TZOFFSETFROM:-0400
TZOFFSETTO:-0500
TZNAME:EST
DTSTART:20271107T060000
END:STANDARD
END:VTIMEZONE
BEGIN:VEVENT
DTSTART;TZID=America/Detroit:20260424T120000
DTEND;TZID=America/Detroit:20260424T150000
DTSTAMP:20260424T012049
CREATED:20260105T142732Z
LAST-MODIFIED:20260127T153138Z
UID:25169-1777032000-1777042800@potterparkzoo.org
SUMMARY:Arbor Day Celebration
DESCRIPTION:Celebrate Arbor Day at Potter Park Zoo! \nCalling all tree lovers and nature enthusiasts! Join us Friday\, April 24\, 2026\, for a day dedicated to celebrating the trees that sustain us and the wildlife that call them home. This event is included with standard zoo admission! \n What’s Happening?\n Interactive Conservation Stations – Learn about tree-dwelling animals\, identify different tree species\, and discover how you can help protect our forests.\n Take Home a Tree – Pick up a free tree sapling (while supplies last) and plant your own piece of conservation!\n Make a Pledge – Commit to small actions that make a big impact on trees and our planet. \nMark your calendars and celebrate Arbor Day with us at Potter Park Zoo!
URL:https://potterparkzoo.org/event/arbor-day-celebration-5/
ATTACH;FMTTYPE=image/png:https://potterparkzoo.org/wp-content/uploads/2026/01/Arbor-Day-Day.png
END:VEVENT
END:VCALENDAR