BEGIN:VCALENDAR
VERSION:2.0
PRODID:-//Potter Park Zoo - ECPv6.15.20//NONSGML v1.0//EN
CALSCALE:GREGORIAN
METHOD:PUBLISH
X-WR-CALNAME:Potter Park Zoo
X-ORIGINAL-URL:https://potterparkzoo.org
X-WR-CALDESC:Events for Potter Park Zoo
REFRESH-INTERVAL;VALUE=DURATION:PT1H
X-Robots-Tag:noindex
X-PUBLISHED-TTL:PT1H
BEGIN:VTIMEZONE
TZID:America/Detroit
BEGIN:DAYLIGHT
TZOFFSETFROM:-0500
TZOFFSETTO:-0400
TZNAME:EDT
DTSTART:20250309T070000
END:DAYLIGHT
BEGIN:STANDARD
TZOFFSETFROM:-0400
TZOFFSETTO:-0500
TZNAME:EST
DTSTART:20251102T060000
END:STANDARD
BEGIN:DAYLIGHT
TZOFFSETFROM:-0500
TZOFFSETTO:-0400
TZNAME:EDT
DTSTART:20260308T070000
END:DAYLIGHT
BEGIN:STANDARD
TZOFFSETFROM:-0400
TZOFFSETTO:-0500
TZNAME:EST
DTSTART:20261101T060000
END:STANDARD
BEGIN:DAYLIGHT
TZOFFSETFROM:-0500
TZOFFSETTO:-0400
TZNAME:EDT
DTSTART:20270314T070000
END:DAYLIGHT
BEGIN:STANDARD
TZOFFSETFROM:-0400
TZOFFSETTO:-0500
TZNAME:EST
DTSTART:20271107T060000
END:STANDARD
END:VTIMEZONE
BEGIN:VEVENT
DTSTART;TZID=America/Detroit:20260422T120000
DTEND;TZID=America/Detroit:20260422T160000
DTSTAMP:20260422T023719
CREATED:20260105T142500Z
LAST-MODIFIED:20260417T162521Z
UID:25167-1776859200-1776873600@potterparkzoo.org
SUMMARY:Earth Day Celebration
DESCRIPTION:Save the Date: Earth Day Celebration at Potter Park Zoo! \nJoin us Wednesday\, April 22 from noon–4 p.m. for our Earth Day Celebration at the zoo! Discover simple ways you can make a difference for wildlife and the planet through interactive activities and educational stations focused on sustainability and conservation. \nAll activities are included with standard zoo admission. \nWhat can you do to help the planet? Come celebrate Earth Day with us and find out! \n\n\n\nDETAILS\n\nDate:April 22\nTime:\nNoon – 4 p.m.
URL:https://potterparkzoo.org/event/party-for-the-planet-at-potter-park-zoo/
END:VEVENT
END:VCALENDAR