BEGIN:VCALENDAR
VERSION:2.0
PRODID:-//Potter Park Zoo - ECPv6.15.20//NONSGML v1.0//EN
CALSCALE:GREGORIAN
METHOD:PUBLISH
X-WR-CALNAME:Potter Park Zoo
X-ORIGINAL-URL:https://potterparkzoo.org
X-WR-CALDESC:Events for Potter Park Zoo
REFRESH-INTERVAL;VALUE=DURATION:PT1H
X-Robots-Tag:noindex
X-PUBLISHED-TTL:PT1H
BEGIN:VTIMEZONE
TZID:America/Detroit
BEGIN:DAYLIGHT
TZOFFSETFROM:-0500
TZOFFSETTO:-0400
TZNAME:EDT
DTSTART:20250309T070000
END:DAYLIGHT
BEGIN:STANDARD
TZOFFSETFROM:-0400
TZOFFSETTO:-0500
TZNAME:EST
DTSTART:20251102T060000
END:STANDARD
BEGIN:DAYLIGHT
TZOFFSETFROM:-0500
TZOFFSETTO:-0400
TZNAME:EDT
DTSTART:20260308T070000
END:DAYLIGHT
BEGIN:STANDARD
TZOFFSETFROM:-0400
TZOFFSETTO:-0500
TZNAME:EST
DTSTART:20261101T060000
END:STANDARD
BEGIN:DAYLIGHT
TZOFFSETFROM:-0500
TZOFFSETTO:-0400
TZNAME:EDT
DTSTART:20270314T070000
END:DAYLIGHT
BEGIN:STANDARD
TZOFFSETFROM:-0400
TZOFFSETTO:-0500
TZNAME:EST
DTSTART:20271107T060000
END:STANDARD
END:VTIMEZONE
BEGIN:VEVENT
DTSTART;TZID=America/Detroit:20260421T110000
DTEND;TZID=America/Detroit:20260421T220000
DTSTAMP:20260421T053630
CREATED:20260407T140059Z
LAST-MODIFIED:20260409T183805Z
UID:26077-1776769200-1776808800@potterparkzoo.org
SUMMARY:P.F. Chang's Fundraiser for Potter Park Zoo
DESCRIPTION:Join us at P.F. Chang’s on Tuesday\, April 21\, and help support Potter Park Zoo!\n\nEnjoy your favorite P.F. Chang’s dishes\, and 10% of the sales from orders mentioning the fundraiser\, bringing in a flyer\, or showing the staff a photo of the flyer (below) will be donated to support the zoo’s community programming.\n\nCome hungry\, leave happy\, all while supporting our zoo!\n\n*P.F. Chang’s Lansing location only*2425 Lake Lansing Rd.Lansing\, MI\, 48912
URL:https://potterparkzoo.org/event/p-f-changs-fundraiser-for-potter-park-zoo/
LOCATION:P.F. Chang’s – Lansing\, 2425 Lake Lansing Rd.\, Lansing\, MI\, 48912\, United States
ATTACH;FMTTYPE=image/png:https://potterparkzoo.org/wp-content/uploads/2025/09/Gold-Minimalist-Happy-Wedding-Facebook-Fundraiser-Cover-Photo-1.png
END:VEVENT
END:VCALENDAR